BEGIN:VCALENDAR
VERSION:2.0
PRODID:-//wp-events-plugin.com//7.2.3.1//EN
BEGIN:VEVENT
UID:392@apc.it
DTSTART:20241129T090000Z
DTEND:20241130T180000Z
DTSTAMP:20240917T083022Z
URL:https://apc.it/lista-eventi/i-valori-in-terapia/
SUMMARY:I VALORI ACT IN TERAPIA
DESCRIPTION:Corso ECM Online Pratico Esperienziale\n\n\nI VALORI ACT IN TER
 APIA\n\n29-30 novembre 2024\nore 09.00-18.00\nIl corso è aperto ai Terape
 uti di qualsiasi orientamento e non richiede necessariamente una precedent
 e formazione ACT\n Dott. Emanuele Rossi\n\nQUOTA AGEVOLATA ENTRO IL 04 nov
 embre 2024\nIl Corso si terrà ONLINE su piattaforma ZOOM in diretta\n24 c
 rediti ECM in FAD Sincrona: è possibile partecipare solamente in diretta\
 n\nInfo: www.apc.it - corsi@apc.it - Tel e Whatsapp 3473566781\nPRESENTAZI
 ONE\nI valori sono un vero e proprio motore di cambiamento personale che d
 ona profondità\, autenticità\, intensità e significato alla terapia 
 stessa. Questo workshop ti aiuterà a cogliere nel profondo tutte le sfum
 ature di questo importante processo in termini professionali e personali. 
 Il Dr. Emanuele Rossi è un trainer ACT riconosciuto a livello internazion
 ale e ti guiderà attraverso una formazione estremamente pratica e diretta
  al lavoro con i valori in terapia.\nQuesto workshop\, basato sulla teoria
  al cuore dell’Acceptance and Commitment Therapy (ACT)\, non necessita t
 uttavia conoscenze pregresse dell’ACT. È stato infatti progettato accu
 ratamente per qualsiasi terapeuta che voglia lavorare con i valori indipen
 dentemente dalla propria cornice teorica di riferimento. Qualsiasi sia il 
 tuo orientamento o approccio terapeutico di riferimento\, se sei interessa
 to a lavorare con i valori in ottica ACT insieme ai tuoi pazienti\, questo
  workshop potrebbe rivelarsi una piacevole scoperta e una risorsa davvero 
 importante.\nAttraverso l’utilizzo di esercizi e metafore esperienziali\
 , testimonianze cliniche e personali\, schede di lavoro\, risorse pratiche
  per il lavoro con i pazienti e individuale\, questo workshop ti guiderà 
 passo passo verso una comprensione profonda di quali sono le qualità ess
 enziali dei valori in ottica ACT e di come agirli in terapia e nella vita.
 \nMODALITÀ DIDATTICA ONLINE: Lezione frontale\; Impiego di filmati clini
 ci esemplificativi in lingua originale\; Esercizi esperienziali\; Role pla
 ying.\n\nQuesto workshop si basa sul volume «I valori in terapia»\nAutor
 i: Jenna LeJeune\, Jason B. Luoma\nEdizione italiana a cura di Emanuele Ro
 ssi\nGiovanni Fioriti Editore\nCLICCA QUI Per info sul volume\n&nbsp\;\n\n
 &nbsp\;\n\n&nbsp\;\n\nDOCENTE: EMANUELE ROSSI\, PsyD\n\nEmanuele Rossi\, P
 hD\, PsyD\, è psicologo e psicoterapeuta libero professionista.\nÈ un 
 trainer riconosciuto di Acceptance and Commitment Therapy (ACT)\, professi
 onal member dell’Association for Contextual Behavioral Science (ACBS). S
 i occupa di ricerca e formazione ACT e RFT.\nÈ docente\, didatta e super
 visore presso le Scuole di Specializzazione in Psicoterapia Cognitiva (APC
 \, SPC\, IGB\, AIPC\, SICC)\, terapeuta accreditato dall’European Associ
 ation for Behavioural and Cognitive Therapies (EABCT)\, membro di ACT Ital
 ia e socio didatta della Società Italiana di Terapia Comportamentale e C
 ognitiva (SITCC).\nHa curato la traduzione e l’edizione italiana di Fond
 amenti di RFT\, Il manuale del terapeuta ACT\, ACT per adolescenti\, Proce
 ss- Based CBT\, ACT Avanzata\, Psicoterapia analitico-funzionale\, I valor
 i in terapia.\nÈ autore de La guida essenziale all’ACT: Teoria e prati
 ca dell’Acceptance and Commitment Therapy.\nPROGRAMMA\nVenerdì 29 novem
 bre 2024 - ore 09.00-13.00\n\n\n 	Il cosa e il perché dei valori\n 	Il v
 ivere di valore richiede flessibilità psicologica\n 	La scienza contestu
 ale e i valori in terapia\n\nVenerdì 29 novembre 2024 - ore 14.00-18.00\n
 \n\n 	I tuoi valori come terapeuta\n 	I tuoi valori come essere umano\n 	O
 rientare i pazienti verso i valori\n\nSabato 30 novembre 2024 - ore 09.00-
 13.00\n\n\n 	Guidare l’esplorazione dei valori\n 	Trovare i valori nel d
 olore\n 	Esplorare attraverso il fare\n\nSabato 30 novembre 2024 - ore 14.
 00-18.00\n\n\n 	La barriere al lavoro sui valori\n 	Culture e valori oltre
  l’individuo\n 	Piano d’azione guidato dai valori\n\nCORSO RIVOLTO A:\
 n\nSpecializzandi in Psicoterapia\, Psicologi abilitati alla Psicoterapia\
 , Medici Psicoterapeuti\, Medici Psichiatri e Medici Neuropsichiatri Infan
 tili.\nCREDITI ECM:\n\n\nÈ previsto l’accreditamento di 24 crediti ECM 
 in FAD SINCRONA\n\nMODALITA' DI PARTECIPAZIONE:\nIl corso si svolgerà in 
 modalità online su piattaforma ZOOM. Sarà possibile partecipare al corso
  esclusivamente in diretta.\nQUOTE E MODALITÀ DI ISCRIZIONE\n\n 	€&nbsp
 \;200\,00 +iva (totale € 244\,00) Quota agevolata per iscrizioni entro i
 l 04/11/2024\;\n 	€ 250\,00 +iva (totale € 305\,00) Quota standard per
  iscrizioni successive al 04/11/2024.\n\nIN CASO DI RINUNCIA NON È PREVIS
 TO IL RIMBORSO DELLA QUOTA DI PARTECIPAZIONE\n\nÈ possibile pagare la quo
 ta di iscrizione in un'unica soluzione con Bonifico Bancario\, Carta di Cr
 edito o PayPal.\n\nCLICCA QUI PER ISCRIVERTI AL CORSO\n\nN.B. Le iscrizion
 i vengono prese sulla nostra nuova piattaforma di erogazione corsi (https:
 //eventi.apc.it/)\, se non sei ancora registrato alla nuova piattaforma do
 vrai registrarti con i tuoi dati e poi procedere all’iscrizione e al pag
 amento del corso.\n\nPer info: corsi@apc.it – Tel e Whatsapp: 3473566781
 \nSegreteria Organizzativa e Provider ECM: \nSPC s.r.l. – Provider ECM S
 tandard ID 3958 - Viale Castro Pretorio\, 116 - Roma\nBROCHURE
ATTACH;FMTTYPE=image/jpeg:https://apc.it/wp-content/uploads/2024/06/Locand
 ina-I-Valori.png
CATEGORIES:Corsi a pagamento,Corsi ACT,Corsi ecm
END:VEVENT
END:VCALENDAR