BEGIN:VCALENDAR
VERSION:2.0
PRODID:-//wp-events-plugin.com//7.2.3.1//EN
BEGIN:VEVENT
UID:400@apc.it
DTSTART;VALUE=DATE:20250522
DTEND;VALUE=DATE:20250526
DTSTAMP:20250226T130653Z
URL:https://apc.it/lista-eventi/eighth-eabct-sig-meeting-on-ocd/
SUMMARY:Eighth EABCT SIG Meeting on OCD
DESCRIPTION:CALL FOR PAPERS\nDOWNLOAD THE BROCHURE\n\nThe&nbsp\;Eighth EABC
 T&nbsp\;Meeting on Obsessive-Compulsive Disorder will be held&nbsp\;in May
  2025 in Assisi\, ITALY.\n\nTYPES OF PRESENTATIONS\n\nThere will be three 
 main sessions. Therefore\, we invite you submit&nbsp\;either a&nbsp\;posit
 ion paper\, a research paper or a new proposal of treatment.\n\nEach prese
 ntation will last 20 minutes. The discussions following the presentations 
 will be an important part of the Meeting.\nIMPORTANT DATES:\n\n 	Abstract 
 Submission Deadline: January 15th 2025\n 	Communication of acceptance/reje
 ction: before January 31st 2025\n 	Eighth Meeting of the EABCT sig on OCD:
 &nbsp\;&nbsp\;May\, 22-25 2025\n\nABSTRACTS SUBMISSION\n\nAbstracts should
  be submitted online: https://forms.gle/CHg6SekrmPufXKR87\n\n&nbsp\;\n\nAB
 STRACTS’ EVALUATION\n\nAbstracts will be reviewed by the SCIENTIFIC COMM
 ITTEE of the EABCT sig on OCD: Prof. Amitai Abramovitch\, PhD.\, Prof. Reu
 ven Dar\, PhD\, Prof. Christine Purdon\, PhD\, and Dr. Karina Wahl\, PhD.\
 n\n&nbsp\;\n\nMEETING REGISTRATION \n\nParticipants will have to register 
 for the Meeting online:&nbsp\;\nREGISTRATION\nREGISTRATION FOR PARTICIPANT
 S OF ALL NATIONALITIES\, EXCEPT ITALIANS\n\nREGISTRATION FOR SITCC MEMBERS
 \n\nREGISTRATION FOR ITALIAN PARTICIPANTS&nbsp\;\nACCOMMODATION\nParticipa
 nts can book their accommodation at La Cittadella online ACCOMMODATION\n\n
 Those who do not register will have no access to the conference sessions.\
 n\n&nbsp\;\n\nREGISTRATION FEES:\n\n 	Before March 10th\, 2025: 150 euros 
 VAT included\n 	After March 11th\, &nbsp\;2025: 250 euros VAT included.\n\
 nPAYMENT OF FEES\n\nPayment of meeting registration fees should be made by
  bank transfer. \n\nAccount Name: Scuola di Psicoterapia Cognitiva srl\nBa
 nk Details: Banca Popolare Emilia Romagna\nIBAN: IT87K05387032020000016063
 00\nBIC: BPMOIT22\n\nInvoices will be managed and sent out by the APC-SPC 
 accountant: Ms. Elena Casonato&nbsp\;casonato@apc.it&nbsp\;&nbsp\;\nPlease
  refer to her for any inquiries regarding payments and invoices.\n\n 	Plea
 se make sure the name of the meeting and the participant are stated on the
  REASON of the bank transfer (EABCT MEETING on OCD 2025-John Doe).\n 	Bank
  charges are the responsibility of the participant and should be paid at s
 ource in addition to the registration.\n\nThe fee includes: Admission to t
 he scientific sessions from Friday May 22nd to Sunday May 25th 2025\, Scie
 ntific program and abstracts\, and Social Dinner.\n\nFREE ACCESS FOR SITCC
  MEMBERS UP-TO-DATE WITH ONE’S PAYMENTS.\nThose who do not register will
  have no access to the conference sessions. Registration includes: Admissi
 on to the scientific sessions\, Coffee-breaks\, Scientific program and Boo
 k of abstracts (NOT the Social Dinner)\n\n&nbsp\;\nJoin us in Assisi for t
 he Eighth EABCT Meeting on OCD!\nThe special interest group (SIG) on Obses
 sive-Compulsive Disorder has been the first EABCT SIG to be formed\, back 
 in 2010. Throughout the years\, many outstanding scholars from Australia\,
  Belgium\, Canada\, Germany\, Iceland\, Israel\, Italy\, Norway\, Spain\, 
 Sweden\, Switzerland\, The Netherlands\, Turkey\, United Kingdom\, and USA
  have taken part in the Meetings.\n\nThese conferences allow a panel of ex
 perts a less formal and more interactive exchange of ideas\, compared to t
 raditional congresses: the peculiarity of these Meetings is the large amou
 nt of time dedicated to discussions and exchange of ideas.\n\nIn order to 
 foster discussion and questions\,&nbsp\;parallel sessions were never plann
 ed for the EABCT Meetings on OCD: the conference is designed to have a sin
 gle plenary session so to maximise debate and exchanges among participants
 .&nbsp\;Besides\, continual comings and goings disturb both the speakers a
 nd the audience\; thus\, in the best tradition of the EABCT Meetings\,&nbs
 p\;participants are warmly invited to&nbsp\;attend all the presentations.\
 nCertificates of attendance will be issued to participants who&nbsp\;atten
 d the Meeting for its entire duration.\nThe Eighth EABCT Meeting on OCD is
  sponsored by SITCC (Italian Association of Behavioural and Cognitive Ther
 apy) and is under the aegis of EABCT and SPC.&nbsp\;\n\nLooking forward to
  meeting all of you in Assisi\, for a wonderful experience of good science
  and good company\,\n\nBarbara&nbsp\;Barcaccia\, PhD\nChairperson of&nbsp\
 ;the&nbsp\;EABCT sig on OCD\n\n&nbsp\;
ATTACH;FMTTYPE=image/jpeg:https://apc.it/wp-content/uploads/2024/09/presen
 tazione-EABCT-2025-data-abstract-aggiornata.png
CATEGORIES:Convegni
END:VEVENT
END:VCALENDAR