BEGIN:VCALENDAR
VERSION:2.0
PRODID:-//wp-events-plugin.com//7.2.3.1//EN
BEGIN:VEVENT
UID:402@apc.it
DTSTART:20250522T000000Z
DTEND:20250525T000000Z
DTSTAMP:20250514T080642Z
URL:https://apc.it/lista-eventi/eighth-eabct-sig-meeting-on-ocd-registrati
 on-for-sitcc-members/
SUMMARY:Eighth EABCT SIG Meeting on OCD - REGISTRATION FOR SITCC MEMBERS
DESCRIPTION:FREE ACCESS FOR SITCC MEMBERS UP-TO-DATE WITH ONE’S PAYMENTS.
  \n\nSITCC members will have to register!\n\nThose who do not register wi
 ll have no access to the conference sessions. \nRegistration includes: Ad
 mission to all the scientific sessions\, Coffee-breaks\, Scientific progra
 m and Book of abstracts.\nSITCC MEMBERS will have to pay separately for t
 he Social Dinner.\nSaturday 8.30 pm SOCIAL DINNER 
END:VEVENT
END:VCALENDAR