BEGIN:VCALENDAR
VERSION:2.0
PRODID:-//wp-events-plugin.com//7.2.3.1//EN
BEGIN:VEVENT
UID:401@apc.it
DTSTART;VALUE=DATE:20250522
DTEND;VALUE=DATE:20250526
DTSTAMP:20250514T080659Z
URL:https://apc.it/lista-eventi/eighth-eabct-sig-meeting-on-ocd-registrati
 on-for-participants-of-all-nationalities-except-italians/
SUMMARY:Eighth EABCT SIG meeting on OCD - REGISTRATION FOR PARTICIPANTS OF 
 ALL NATIONALITIES\, EXCEPT ITALIANS
DESCRIPTION:Invoices will be managed and sent out by the APC-SPC accountant
 : Ms. Elena Casonato casonato@apc.it  Please refer to her for any inqui
 ries regarding payments and invoices.\n\nPayment of Meeting registration f
 ees should be made by bank transfer.\nAccount Name: Scuola di Psicoterapia
  Cognitiva srl\nBank Details: Banca Popolare Emilia Romagna\nIBAN: IT87K05
 38703202000001606300\nBIC: BPM0IT22\n\nPlease make sure the name of the Me
 eting and the participant are stated on\nthe REASON of the bank transfer (
 EABCT MEETING on OCD 2025-John Doe).\nBank charges are the responsibility 
 of the participant and should be paid at\nsource in addition to the regist
 ration.\nThe fee includes: Admission to the scientific sessions from Frida
 y May 22 to\nSunday May 25 2025\, Scientific program and abstracts\, and S
 ocial Dinner.
END:VEVENT
END:VCALENDAR