BEGIN:VCALENDAR
VERSION:2.0
PRODID:-//wp-events-plugin.com//7.2.3.1//EN
BEGIN:VEVENT
UID:396@apc.it
DTSTART;VALUE=DATE:20241206
DTEND;VALUE=DATE:20241209
DTSTAMP:20240715T093223Z
URL:https://apc.it/lista-eventi/dialectical-behavioral-therapy-training-in
 tensivo-iii-livello/
SUMMARY:DIALECTICAL BEHAVIORAL THERAPY TRAINING INTENSIVO III LIVELLO
DESCRIPTION:DIALECTICAL BEHAVIORAL THERAPY\nTRAINING INTENSIVO III LIVELLO\
 nCONDOTTO DA&nbsp\;CHARLES R. SWENSON\nBOLOGNA: 6-7-8 DICEMBRE 2024\nNel c
 orso di questi tre giorni di workshop\, ultima parte dell’intensivo in T
 erapia Dialettico Comportamentale (DBT)\, i partecipanti rivedranno e cons
 olideranno quanto appreso nelle due parti precedenti\, oltre ad apprendere
  diverse nuove aree di applicazione della DBT\; discuteranno\, inoltre\, c
 asi clinici&nbsp\; nel contesto di gruppi di supervisione e valuteranno qu
 anto implementato in DBT sino ad ora nelle loro realtà cliniche. Avranno 
 infine l’opportunità di osservare e praticare l’applicazione della DB
 T durante le sedute.\n\nIl training sarà strutturato su tre giornate con 
 specifici argomenti ma avrà anche la flessibilità di essere adattato all
 e richieste specifiche dei partecipanti.\n\nL’intero training avrà un t
 aglio interattivo con dimostrazioni\, pratica e discussioni e&nbsp\;partir
 à nel punto in cui è terminata la seconda parte.\n\nE’ prevista la tra
 duzione consecutiva.\n\nPer partecipare al secondo livello è necessario a
 vere frequentato i Training Intensivi DBT di primo e secondo livello\;&nbs
 p\;il Training DBT Adolescenti&nbsp\;è un modulo a se stante che non cons
 ente l’accesso diretto al III livello del Training DBT.\n\nSi precisa ch
 e infermieri\, educatori professionali\, tecnici della riabilitazione psic
 hiatrica e psicologi potranno utilizzare la parte psicoeducativa all’int
 erno di una equipe che prevede la figura dello psicoterapeuta\, al fine di
  allineare le conoscenze delle metodologie applicate. Si&nbsp\;specifica c
 he tutte le altre tecniche non psicoeducative sono di esclusiva competenza
  dello psicoterapeuta.\n\nDOCENTE\nIl&nbsp\;Prof. Charles Swenson&nbsp\;è
  Professore associato di Psichiatria alla Facoltà di Medicina dell’Univ
 ersità del Massachusetts. Il Prof Swenson si è laureato all’Universit
 à di Harvard in Biologia nel 1972 e successivamente\, nel 1976\,&nbsp\; h
 a conseguito la Laurea in Medicina all’Università di Yale. Ha completat
 o la sua specializzazione in Psichiatria all’Università di Yale nel 198
 0 vincendo il premio di “Specializzando di rilievo”. Dopo due anni pre
 sso la Yale University e quattro anni di training psicoanalitico\, il Prof
 . Swenson è entrato a far parte del corpo docente della Facoltà di Medic
 ina della Cornell University a New York. Dal 1982 al 1996 ha diretto il re
 parto di lungodegenza\, il programma di Day Hospital e quello ambulatorial
 e per pazienti con gravi disturbi di personalità.&nbsp\; Per diversi anni
  ha diretto programmi ad orientamento psicoanalitico\, lavorando a stretto
  contatto col suo primo maestro\, Otto Kernberg. Negli ultimi sette anni t
 rascorsi alla Cornell University ha implementato programmi DBT. E’ stato
  nominato per ben due volte “Professore eccellente” per la scuola di S
 pecializzazione in Psichiatria della Cornell University. Dopo essere stato
  formato in maniera intensiva da Marsha Linehan nel 1993\, è stata la pri
 ma persona al mondo autorizzata dalla sua mentore a condurre training inte
 nsivi DBT\, che ha cominciato ad insegnare nel 1994 e continua tutt’oggi
 . Ad oggi ne ha diretti 35 di dieci giorni l’uno formando circa 1500 pro
 fessionisti della salute mentale e più di 250 team. Conduce training inte
 nsivi in Italia dal 2013 ricevendo ampio consenso. Il Prof. Swenson si è 
 trasferito in Massachusetts ed è entrato a far parte del corpo docente de
 lla Facoltà di Medicina dell’Università del Massachusetts nel 1996 dov
 e tutt’ora mantiene la sua posizione accademica in qualità di Professor
 e. In Massachusetts ha lavorato per il Dipartimento di Salute Mentale come
  Direttore\, come Psichiatra Senior e come Consulente Clinico per casi com
 plessi. Nello stesso Stato ha implementato lo sviluppo di una ampia rete d
 i servizi DBT per adulti\, adolescenti e bambini. Durante tutti questi ann
 i ha formato e supervisionato professionisti della Salute Mentale\, negli 
 Stati Uniti\, in Canada\, in Australia ed in diversi paesi europei. Insiem
 e alla Prof.ssa Linehan è stato il co-fondatore della ISITDBT (Società I
 nternazionale per il miglioramento e l’insegnamento della DBT) nel 1997 
 ed è stato il primo vincitore del Premio ISITDBT Cindy Sanderson come Pro
 fessore Eccellente. Numerose sono le pubblicazioni di articoli scientifici
  e capitoli di libri per l’implementazione e il trattamento della DBT e 
 per altri modelli di trattamento per persone affette da Disturbo Borderlin
 e di Personalità. Il suo libro “Principi di DBT in azione: accettazione
 \, cambiamento e dialettica” pubblicato dalla Guilford Press nel luglio 
 2016\, così recensito nella introduzione della Prof.ssa Marsha Linehan:&n
 bsp\;“Swenson è il maestro dei maestri\, un modello per altri esperti d
 i come rendere la DBT chiara ed accessibile\, sia a clinici esperti sia a 
 clinici di ogni livello… Non c’è libro pubblicato come questo: chiaro
 \, profondo\, coinvolgente e talora divertente. E’ fedele al modello del
 la DBT e allo stesso tempo personale\, dando l’impressione di essere in 
 supervisione con lui”.\n\nPROGRAMMA\n\n\n\nVENERDI’ 6 DICEMBRE 2024\n\
 n\n&nbsp\;08:30\nRegistrazione dei partecipanti\n\n\n09:00 – 10:45\nPrat
 ica di Mindfulness\nStrategie fondamentali: Dialettica&nbsp\;(livello avan
 zato)\n\n\n10:45 – 11:00&nbsp\;\nPausa\n\n\n11:00 – 13:00\nOttenere un
  forte impegno al trattamento: Revisione e pratica\n\n\n13:00 – 14:00\nP
 ausa pranzo\n\n\n14:00 – 15:30\nCostruire e gestire un team di consultaz
 ione efficace\n\n\n15:30 – 15:45\nPausa\n\n\n15:45 – 17:00\nDBT per le
  dipendenze\n\n\n17:00 – 17:30\nDomande e risposte\n\n\n\n\n\n\nSABATO 7
  DICEMBRE 2024\n\n\n09:00 -10:45\nPratica di Mindfulness\nStrategie fondam
 entali: Analisi della catena comportamentale&nbsp\;(livello avanzato)\n\n\
 n10:45- 11:00&nbsp\;\nPausa\n\n\n11:00 – 13:00\nConcettualizzazione del 
 caso nella DBT\n\n\n13:00 – 14:00\nPausa pranzo\n\n\n14:00 – 15:30\nCo
 ncettualizzazione di mini-casi/mini-piani di trattamento\n\n\n15:30 – 15
 :45\nPausa\n\n\n15:45 – 17:00\nDBT-A: Trattamento di adolescenti e famig
 lie\n\n\n17:00 – 17:30\nDomande e risposte\n\n\n\n\n\n\nDOMENICA 8 DICEM
 BRE 2024\n\n\n09:00 -10:45\nPratica di Mindfulness\nStrategie fondamentali
 : Validazione&nbsp\;(livello avanzato)\n\n\n10:45- 11:00&nbsp\;\nPausa\n\n
 \n11:00 – 13:00\nIl trattamento del trauma e del PTSD nella DBT\n\n\n13:
 00 – 14:00\nPausa pranzo\n\n\n14:00 – 15:30\nStrategie fondamentali: s
 kills training&nbsp\;(livello avanzato)\n\n\n15:30 – 15:45\nPausa\n\n\n1
 5:45 – 17:00\nConsultazione per i casi dei partecipanti\n\n\n17:00 – 1
 7:30\nDomande e risposte\n\n\n\n&nbsp\;\n\nECM\nCorso Residenziale di 21 o
 re formative&nbsp\;–&nbsp\;14\,7 crediti formativi&nbsp\;per le seguenti
  professioni e discipline:\n\n* MEDICO&nbsp\;– discipline di riferimento
 : Psichiatria\, Psicoterapia\, Neuropsichiatria Infantile\, Scienza dell
 ’Alimentazione e Dietetica\n* PSICOLOGO&nbsp\;– discipline di riferime
 nto: Psicologia\, Psicoterapia\n* INFERMIERE\n* EDUCATORE PROFESSIONALE\n*
  TECNICO DELLA RIABILITAZIONE PSICHIATRICA\n\nObiettivo formativo di inter
 esse nazionale:&nbsp\;Documentazione clinica. Percorsi clinico-assistenzia
 li diagnostici e riabilitativi\, profili di assistenza – profili di cura
 .\n\nPer l’acquisizione dei crediti ECM sarà necessario:\n\n 	partecipa
 re ad almeno il 90% del programma formativo&nbsp\;(escluse pause\;)\n 	ris
 pondere correttamente ad almeno il 75% delle domande del test di valutazio
 ne apprendimento\n 	Compilare&nbsp\;il questionario di gradimento evento\n
 \nIl test di valutazione apprendimento ed il questionario di gradimento do
 vranno essere completati on-line entro tre giorni dalla conclusione del co
 rso.\n\nGli Specializzandi in Psicoterapia&nbsp\;sono esonerati dal conseg
 uimento dei crediti formativi.&nbsp\;Un esonero che comunque&nbsp\;non avv
 iene d’ufficio\, ma su richiesta dell’interessato.&nbsp\;Per procedere
  è necessario registrarsi sul&nbsp\;portale CO.GE.A.P.S.\,&nbsp\;iscriven
 dosi all’area riservata&nbsp\;e compilare&nbsp\;l’autodichiarazione re
 peribile sullo stesso sito.\n\nQUOTE DI ISCRIZIONE\n\n\n\nIl training è&n
 bsp\;a numero chiuso e si terrà in presenza a Bologna (non è prevista la
  modalità on-line).\n\nQUOTE DI ISCRIZIONE ENTRO IL 15 SETTEMBRE 2024\n\n
  	PSICHIATRI\, PSICOLOGI\, PSICOTERAPEUTI\, NEUROPSICHIATRI INFANTILI&nbsp
 \; &nbsp\;\n€ 420 + IVA22%&nbsp\;(€ 512\,40 IVA INCLUSA)\nUSA IL CODIC
 E SCONTO DBT3X51\n 	INFERMIERI\, EDUCATORI PROFESSIONALI\, TECNICI RIABIL.
  PSICHIATRICA&nbsp\; &nbsp\;\n€ 370 + IVA22%&nbsp\;(€ 451\,40 IVA INCL
 USA)\nUSA IL CODICE SCONTO DBT3X45\n\n\nQUOTE DI ISCRIZIONE DAL 16 SETTEMB
 RE AL 25 NOVEMBRE 2024 (sino ad esaurimento posti)\n\n 	PSICHIATRI\, PSICO
 LOGI\, PSICOTERAPEUTI\, NEUROPSICHIATRI INFANTILI&nbsp\; &nbsp\; &nbsp\; &
 nbsp\; &nbsp\;&nbsp\;\n€ 520 + IVA22%&nbsp\;(€ 634\,40 IVA INCLUSA) &n
 bsp\; &nbsp\; &nbsp\; &nbsp\; &nbsp\; &nbsp\; &nbsp\; &nbsp\; &nbsp\; &nbs
 p\;\n 	INFERMIERI\, EDUCATORI PROFESSIONALI\, TECNICI RIABIL. PSICHIATRICA
 &nbsp\; &nbsp\; &nbsp\; &nbsp\; &nbsp\;\n€ 470 + IVA22%&nbsp\;(€ 573\,
 40 IVA INCLUSA)\nUSA IL CODICE SCONTO DBT3X57\n&nbsp\; &nbsp\; &nbsp\; &nb
 sp\; &nbsp\; &nbsp\; &nbsp\; &nbsp\; &nbsp\; &nbsp\; &nbsp\; &nbsp\; &nbsp
 \; &nbsp\; &nbsp\; &nbsp\; &nbsp\; &nbsp\; &nbsp\; &nbsp\; &nbsp\; &nbsp\;
  &nbsp\; &nbsp\; &nbsp\; &nbsp\; &nbsp\; &nbsp\; &nbsp\; &nbsp\; &nbsp\; &
 nbsp\; &nbsp\; &nbsp\; &nbsp\; &nbsp\; &nbsp\; &nbsp\; &nbsp\; &nbsp\; &nb
 sp\; &nbsp\; &nbsp\; &nbsp\; &nbsp\; &nbsp\; &nbsp\; &nbsp\; &nbsp\; &nbsp
 \; &nbsp\; &nbsp\; &nbsp\; &nbsp\; &nbsp\; &nbsp\; &nbsp\; &nbsp\; &nbsp\;
  &nbsp\;\n\nLe quote includono la partecipazione ai lavori\, l’attestato
  di partecipazione\, i crediti ECM per le professioni e discipline accredi
 tate.\n\nIl versamento della quota di iscrizione dovrà essere effettuato 
 contestualmente alla richiesta di iscrizione tramite bonifico bancario. Le
  iscrizioni senza pagamento saranno annullate\n\nPER ULTERIORI INFORMAZION
 I E ISCRIZIONI&nbsp\;\n\nSCARICA LA LOCANDINA
ATTACH;FMTTYPE=image/jpeg:https://apc.it/wp-content/uploads/2024/07/presen
 tazione-swenson-6-7-8-dicembre-2024.png
CATEGORIES:Corsi a pagamento
END:VEVENT
END:VCALENDAR