BEGIN:VCALENDAR
VERSION:2.0
PRODID:-//wp-events-plugin.com//7.2.3.1//EN
BEGIN:VEVENT
UID:121@apc.it
DTSTART:20210409T143000Z
DTEND:20210508T180000Z
DTSTAMP:20210210T085937Z
URL:https://apc.it/lista-eventi/dialectical-behavioral-therapy-training-in
 tensivo-i-livello/
SUMMARY:DIALECTICAL BEHAVIORAL THERAPY TRAINING INTENSIVO I LIVELLO
DESCRIPTION:\nDIALECTICAL BEHAVIORAL THERAPY\nTRAINING INTENSIVO I LIVELLO\
 nFAD ON-LINE\n\nCONDOTTO DA CHARLES R. SWENSON\n\n9-10-23-24 aprile e 7-8
  maggio 2021\norario: 14:30/18:00\n\nQuesto primo livello formativo si ins
 erisce all’interno di un Training intensivo DBT\, strutturato in tre fas
 i. E’ possibile frequentare anche il solo primo livello in cui verrà fo
 rnita una panoramica della DBT ed un training sulle nuove Skills  e sulle
  principali strategie nucleari\, in modo da avere fin da subito strumenti 
 da integrare nella propria pratica clinica. Chi desidera invece acquisire 
 maggiori competenze potrà proseguire il training nei livelli successivi.\
 n\nIl I° livello sarà incentrato sulla panoramica del trattamento e sull
 ’insegnamento  dei quattro moduli del DBT Skills Training\, in base all
 a 2° Edizione del DBT Skills Training Manual (2014) di Marsha Linehan\, c
 on attenzione al loro utilizzo in un setting sia gruppale che individuale.
  Verranno\, inoltre\, insegnate le strategie nucleari della DBT (Problem S
 olving\, Validazione e Strategie Dialettiche) ed illustrati i principali s
 trumenti per valutare i comportamenti problematici e costruire l’analisi
  delle catene comportamentali.\n\nIl workshop FAD è rivolto a psicologi p
 sicoterapeuti\, psichiatri psicoterapeuti\, neuropsichiatri infantili\, in
 fermieri professionali\, educatori professionali e tecnici della riabilita
 zione psichiatrica. E’ aperto anche a psicologi specializzandi in psicot
 erapia e a medici specializzandi in psicoterapia\, psichiatria e neuropsic
 hiatria infantile.\n\n– Corso FAD ECM si terrà on-line su piattaforma Z
 oom dalle ore 14:30 alle ore 18:00 nelle giornate di: venerdì 9 Aprile 
 e sabato 10 Aprile 2021 – venerdì 23 Aprile e sabato 24 Aprile 2021 –
  venerdì 7 Maggio e sabato 8 Maggio 2021\n\n– E’ prevista la traduzio
 ne simultanea in Italiano\; si avrà comunque la possibilità di ascoltar
 e l’audio originale in Inglese (sono previsti due canali audio diversi)
 .\n\nDOCENTE\nIl Prof. Charles Swenson è Professore associato di Psichi
 atria alla Facoltà di Medicina dell’Università del Massachusetts. Il P
 rof Swenson si è laureato all’Università di Harvard in Biologia nel 19
 72 e successivamente\, nel 1976\,  ha conseguito la Laurea in Medicina al
 l’Università di Yale. Ha completato la sua specializzazione in Psichiat
 ria all’Università di Yale nel 1980 vincendo il premio di “Specializz
 ando di rilievo”. Dopo due anni presso la Yale University e quattro anni
  di training psicoanalitico\, il Prof. Swenson è entrato a far parte del 
 corpo docente della Facoltà di Medicina della Cornell University a New Yo
 rk. Dal 1982 al 1996 ha diretto il reparto di lungodegenza\, il programma 
 di Day Hospital e quello ambulatoriale per pazienti con gravi disturbi di 
 personalità.  Per diversi anni ha diretto programmi ad orientamento psic
 oanalitico\, lavorando a stretto contatto col suo primo maestro\, Otto Ker
 nberg. Negli ultimi sette anni trascorsi alla Cornell University ha implem
 entato programmi DBT. E’ stato nominato per ben due volte “Professore 
 eccellente” per la scuola di Specializzazione in Psichiatria della Corne
 ll University. Dopo essere stato formato in maniera intensiva da Marsha Li
 nehan nel 1993\, è stata la prima persona al mondo autorizzata dalla sua 
 mentore a condurre training intensivi DBT\, che ha cominciato ad insegnare
  nel 1994 e continua tutt’oggi. Ad oggi ne ha diretti 35 di dieci giorni
  l’uno formando circa 1500 professionisti della salute mentale e più di
  250 team. Conduce training intensivi in Italia dal 2013 ricevendo ampio c
 onsenso. Il Prof. Swenson si è trasferito in Massachusetts ed è entrato 
 a far parte del corpo docente della Facoltà di Medicina dell’Universit
 à del Massachusetts nel 1996 dove tutt’ora mantiene la sua posizione ac
 cademica in qualità di Professore. In Massachusetts ha lavorato per il Di
 partimento di Salute Mentale come Direttore\, come Psichiatra Senior e com
 e Consulente Clinico per casi complessi. Nello stesso Stato ha implementat
 o lo sviluppo di una ampia rete di servizi DBT per adulti\, adolescenti e 
 bambini. Durante tutti questi anni ha formato e supervisionato professioni
 sti della Salute Mentale\, negli Stati Uniti\, in Canada\, in Australia ed
  in diversi paesi europei. Insieme alla Prof.ssa Linehan è stato il co-fo
 ndatore della ISITDBT (Società Internazionale per il miglioramento e l’
 insegnamento della DBT) nel 1997 ed è stato il primo vincitore del Premio
  ISITDBT Cindy Sanderson come Professore Eccellente. Numerose sono le pubb
 licazioni di articoli scientifici e capitoli di libri per l’implementazi
 one e il trattamento della DBT e per altri modelli di trattamento per pers
 one affette da Disturbo Borderline di Personalità. Il suo libro “Princi
 pi di DBT in azione: accettazione\, cambiamento e dialettica” pubblicato
  dalla Guilford Press nel luglio 2016\, così recensito nella introduzione
  della Prof.ssa Marsha Linehan: “Swenson è il maestro dei maestri\, un 
 modello per altri esperti di come rendere la DBT chiara ed accessibile\, s
 ia a clinici esperti sia a clinici di ogni livello… Non c’è libro pub
 blicato come questo: chiaro\, profondo\, coinvolgente e talora divertente.
  E’ fedele al modello della DBT e allo stesso tempo personale\, dando l
 ’impressione di essere in supervisione con lui”.\n\nPROGRAMMA\n\n 	Il 
 Training si terrà on-line su piattaforma Zoom dalle ore 14:30 alle ore 18
 :00 nelle giornate di: venerdì 9 Aprile e sabato 10 Aprile 2021 – ven
 erdì 23 Aprile e sabato 24 Aprile 2021 – venerdì 7 Maggio e sabato 8 M
 aggio 2021\n 	In ogni giornata è prevista una pausa dalle ore 16:00 alle 
 ore 16:30\n 	E’ prevista la traduzione simultanea in Italiano\n\n\nProgr
 amma preliminare\n\nPanoramica sul modello:\n\n 	problemi comportamentali\
 n 	popolazione clinica\n 	evidenze scientifiche del trattamento\n 	teoria 
 bio-sociale e principi del trattamento\n 	strutturazione del trattamento\n
 \nTerapia Individuale:\n\n 	motivare il paziente alla terapia\n 	costruzio
 ne della gerarchia degli obiettivi del trattamento\n 	condurre l’analisi
  delle catene comportamentali\n 	la DBT come soluzione ai modelli di compo
 rtamento problematici\n\nDBT Skills Training:\n\n 	istituire il gruppo del
 le Skills\, Abilità Nucleari di Mindfulness\n 	come affrontare i problemi
  comportamentali in gruppo\n 	abilità di Tolleranza allo Stress\n 	aiutar
 e i pazienti ad usare le abilità tra una sessione e l’altra\n 	abilità
  di Regolazione Emotiva\n 	abilità di Efficacia Interpersonale\n 	il ruol
 o del team DBT\n\nECM\n\nCorso FAD di 18 ore formative – 27 crediti fo
 rmativi per le seguenti professioni e discipline:\n\n* MEDICO – discip
 line di riferimento: Psichiatria\, Psicoterapia\, Neuropsichiatria Infanti
 le\n* PSICOLOGO – discipline di riferimento: Psicologia\, Psicoterapia\
 n* INFERMIERE\n* EDUCATORE PROFESSIONALE\n* TECNICO DELLA RIABILITAZIONE P
 SICHIATRICA\n\nObiettivo formativo di interesse nazionale: Documentazione
  clinica. Percorsi clinico-assistenziali diagnostici e riabilitativi\, pr
 ofili di assistenza – profili di cura.\n\nLa presenza sarà tracciata tr
 amite gli accessi alla piattaforma\; per l’acquisizione dei crediti ECM 
 sarà necessario:\n– partecipare “in diretta” nelle giornate e ora
 ri indicati ad almeno il 90% del programma formativo\n– rispondere corr
 ettamente ad almeno il 75% delle domande del test di valutazione apprendim
 ento\, con domande a doppia randomizzazione da\neffettuarsi on-line entro
  tre giorni dalla conclusione del corso – massimo 5 tentativi\, previa l
 a ripetizione della fruizione dei contenuti per ogni singolo tentativo\n
 – compilare il questionario di gradimento evento\n\nL’attestato di par
 tecipazione sarà inviato via email al termine del training. Sarà possibi
 le scaricare dalla piattaforma l’attestazione dei crediti ECM dopo il su
 peramento del test di apprendimento e la compilazione del questionario di 
 gradimento.\n\nISCRIZIONI E QUOTE\n\nIl corso è a numero chiuso e sarà a
 ttivato al raggiungimento di un numero minimo di iscritti. In caso di man
 cata attivazione del training la quota versata sarà rimborsata.\n\nQUOTE 
 DI ISCRIZIONE\n\n\n\n\nQuote di iscrizione entro il 10 Marzo 2021 CODICE D
 BT121\n\n 	Quota unica ridotta  – € 320 + IVA22% (€ 390\,40 IVA IN
 CLUSA)   USA IL CODICE DBT121 PER USUFRUIRE DELLA QUOTA RIDOTTA\n\nQuote
  di iscrizione dall’ 11 Marzo al 2 Aprile 2021\n\n 	Quota unica maggiora
 ta – € 400 + IVA22% (€ 488  IVA INCLUSA)\n\nLe quote includono la 
 partecipazione ai lavori\, l’attestato di partecipazione\, i crediti ECM
  per le professioni e discipline accreditate.\nL’iscrizione al training 
 è impegnativa\, non sono previsti rimborsi in caso di annullamento da par
 te del partecipante.\nCLICCA QUI PER ULTERIORI INFORMAZIONI\nE PER PROCEDE
 RE ALL'ISCRIZIONE 
ATTACH;FMTTYPE=image/jpeg:https://apc.it/wp-content/uploads/2021/02/presen
 tazione-DBT-swenson-aprile-maggio-2021.jpg
CATEGORIES:Corsi a pagamento,Corsi ecm
END:VEVENT
END:VCALENDAR