BEGIN:VCALENDAR
VERSION:2.0
PRODID:-//wp-events-plugin.com//7.2.3.1//EN
BEGIN:VEVENT
UID:123@apc.it
DTSTART:20211016T090000Z
DTEND:20211017T180000Z
DTSTAMP:20211012T081709Z
URL:https://apc.it/lista-eventi/diagnosi-e-trattamento-dei-disturbi-da-tic
 -e-della-sindrome-di-tourette-in-eta-evolutiva-secondo-lapproccio-cognitiv
 ista/
SUMMARY:DIAGNOSI E TRATTAMENTO DEI DISTURBI DA TIC E DELLA SINDROME DI TOUR
 ETTE IN ETÀ EVOLUTIVA SECONDO L’APPROCCIO COGNITIVISTA
DESCRIPTION:\nDIAGNOSI E TRATTAMENTO DEI DISTURBI DA TIC\nE DELLA SINDROME 
 DI TOURETTE IN ETÀ EVOLUTIVA\nSECONDO L’APPROCCIO COGNITIVISTA\nMonica 
 Mercuriu\n\n16-17 ottobre 2021\norario 9.00-18-00\n\nPRESENTAZIONE\n\nI di
 sturbi da tic e la Sindrome di Tourette vengono classificati nel DSM 5 com
 e disturbi ad esordio infantile- adolescenziale. Essi compaiono tipicament
 e tra i 4 ed i 6 anni\, e prima dei 18 anni\, e sono caratterizzati dalla 
 presenza di tic\, movimenti corporei rapidi\, ricorrenti\, non ritmici o v
 ocalizzi\, che si manifestano in maniera non costante per intensità\, fre
 quenza e durata.\nLa sindrome di Tourette\, che fa parte dei disturbi da t
 ic\, è caratterizzata dalla combinazione di tic motori (della durata supe
 riore ad un anno) e tic vocali.\nE’ presente un’elevata comorbilità c
 on il Disturbo Ossessivo–Compulsivo e con il DDAI (Disturbo da Deficit d
 ’Attenzione con Iperattività)\, condizioni che possono precedere o segu
 ire la manifestazione dei tic nel bambino.\nTali disturbi hanno una risona
 nza notevole sulla qualità di vita dei bambini che ne sono\naffetti\, inf
 luenzandone negativamente lo sviluppo affettivo e relazionale. Solo una ba
 ssa\npercentuale di questi casi giunge al trattamento e una buona parte no
 n viene correttamente diagnosticata.\nNella presentazione verranno illustr
 ate le caratteristiche cliniche del Disturbo da Tic e della Sindrome di To
 urette negli aspetti legati alla sintomatologia\, l’età di esordio e gl
 i aspetti fenomenologici. Verranno presentate le principali proposte d’i
 ntervento sul Disturbo in accordo con le linee guida europee e le nuove di
 rettive a livello mondiale (1st World Congress on Tourette Syndrome &amp\;
  Tic Disorders \, Londra\, 24 – 26 Giugno\, 2015).\nAttraverso l’espos
 izione di diversi casi clinici verrà illustrata la proposta d’intervent
 o\nall’interno della prospettiva cognitivista\, l’intervento in settin
 g paralleli (bambino e famiglia)\, discusse le difficoltà del trattamento
 .\nParticolare attenzione verrà dedicata agli aspetti legati alla comorbi
 lità con il Disturbo\nOssessivo Compulsivo. Saranno illustrati i determin
 anti psicologici del DOC secondo la\nprospettiva cognitivista\, la comorbi
 lità con il Disturbo da tic e la Sindrome di Tourette e\nl’intervento p
 sicoterapeutico con la presentazione di un caso.\n\nPROGRAMMA\n\nSabato 16
  ottobre 2021\n9.00 – 13.00\n• Il Disturbo da Tic e la Sindrome di Tou
 rette: sintomatologia e aspetti fenomenologici\n• L’iter diagnostico\n
 • Il trattamento farmacologico\n• Quadri clinici in comorbidità nella
  Sindrome di Tourette e nel Disturbo da Tic\n14.00 -18.00\n• Complessit
 à del trattamento\n• L’intervento psicoterapeutico: le linee guida in
 ternazionali\n• Una proposta di trattamento secondo la prospettiva cogni
 tivista\n• Utilizzo delle tecniche evidence based per il trattamento sin
 tomatico: Habit Reversal\nTraining (HR)\; Esposizione con Prevenzione dell
 e risposta ERP\n\nDomenica 17 ottobre 2021\n09.00-13.00\n• Applicazione 
 del modello per il DOC (Mancini F\,) al disturbo da tic e TS\n• Interven
 ti sul DOC\n• L’intervento di supporto ai genitori\n• L’intervento
  a scuola: supporto agli insegnanti ed alla classe\n14.00-18.00\n• Prese
 ntazione di casi clinici: la TS\, le sue comorbidità (ADHD\, DOC) ed i di
 sturbi correlati (discontrollo della rabbia\, misofonia)\n• Supervisione
  dei casi clinici presentati dai partecipanti (previo invio almeno 15 gg p
 rima della data del corso)\n\nDOCENTE\n\nDott.ssa Monica Mercuriu\nPsicolo
 ga Psicoterapeuta\;\nEquipe Età Evolutiva Scuole APC-SPC\, Roma\;\nDocent
 e Scuola di Psicoterapia Cognitiva APC-SPC di Roma\, \nIGB Palermo\, AIPC 
 Bari\nDidatta SITCC\n\n&nbsp\;\n\nMODALITÀ DI SVOLGIMENTO\nIl corso si sv
 olgerà in modalità webinar da remoto attraverso la piattaforma ZOOM\nAl 
 termine del corso verrà rilasciato un attestato di partecipazione.\n\nCOR
 SO RIVOLTO A\nSpecializzandi in Psicoterapia\, Psicologi abilitati alla Ps
 icoterapia\, Medici Psicoterapeuti e Medici Psichiatri\, Medici Neuropsich
 iatri Infantili.\n\n\n\nÈ PREVISTO L’ACCREDITAMENTO DI\n24 CREDITI ECM\
 n\nN.B. Per l’attribuzione dei crediti è richiesta la&nbsp\;frequenza d
 el 90%&nbsp\;delle sessioni scientifiche in programma e almeno il&nbsp\;75
 %&nbsp\;di risposte corrette al questionario di valutazione apprendimento\
 n\nQUOTA DI PARTECIPAZIONE\n• € 200\,00 + iva (tot. € 244\,00) quota
  agevolata\nper iscrizioni ENTRO il 15 settembre 2021\n• € 250\,00 + i
 va (tot. € 305\,00) quota standard\nper iscrizioni successive al 15 sett
 embre\n\nMODALITÀ D’ISCRIZIONE\nPer iscriversi è necessario compilare 
 la scheda online e versare contestualmente la quota di partecipazione.\nIl
  versamento deve avvenire tramite bonifico bancario sul conto intestato a\
 nScuola di Psicoterapia Cognitiva srl\nIBAN IT87K0538703202000001606300\nc
 ausale “TIC TOURETTE ONLINE 2021”\nIN CASO DI RINUNCIA\nNON È PREVIST
 O IL RIMBORSO DELLA QUOTA DI PARTECIPAZIONE\n&nbsp\;\nScarica la brochure 
 di questo evento&nbsp\;\n&nbsp\;\n\n\n\n\nTutte le comunicazioni organizza
 tive relative a questo corso vengono effettuate via mail.&nbsp\;SI PREGA D
 I CONTROLLARE LO SPAM.\nPer&nbsp\;INFO&nbsp\;o problemi relativi al colleg
 amento potete contattare&nbsp\;SOLO NEI GIORNI DI SVOLGIMENTO DEL CORSO\ni
 l numero&nbsp\;347-3566781\n\n\n
ATTACH;FMTTYPE=image/jpeg:https://apc.it/wp-content/uploads/2021/02/presen
 tazione-tic-e-tourette-16-17-ottobre-2021.png
CATEGORIES:Corsi a pagamento,Corsi ecm
END:VEVENT
END:VCALENDAR