BEGIN:VCALENDAR
VERSION:2.0
PRODID:-//wp-events-plugin.com//7.2.3.1//EN
BEGIN:VEVENT
UID:393@apc.it
DTSTART:20250117T130000Z
DTEND:20250202T183000Z
DTSTAMP:20241002T101845Z
URL:https://apc.it/lista-eventi/dbt-ptsd-lunico-modello-di-trattamento-dbt
 -evidence-based-per-il-ptsd-complesso/
SUMMARY:DBT-PTSD - Modello di trattamento DBT evidence-based per il PTSD Co
 mplesso
DESCRIPTION:Corso ECM Online\n\n\nDBT-PTSD\nModello di trattamento DBT evid
 ence-based per il PTSD Complesso\n\n17-18-19 gennaio &amp\; 31 gennaio-1-2
  febbraio 2025\nore 13.00-18.30\n\nProf. Martin Bohus\n\nQUOTA AGEVOLATA: 
 \n\n\n 	EARLY BIRD entro il 01/12/2024\n\nIl Corso si terrà ONLINE su pia
 ttaforma ZOOM in diretta\n40\,5 crediti ECM in FAD Sincrona: è possibile 
 partecipare solamente in diretta\n\nInfo: www.apc.it - corsi@apc.it - Tel 
 e Whatsapp 3473566781\n&nbsp\;\n\nPRESENTAZIONE:\nCon l'ultima revisione d
 ell'ICD 11\, il disturbo post-traumatico da stress complesso è stato defi
 nito come diagnosi indipendente. La diagnosi "PTSD complesso" descrive un'
 ampia gamma di sintomi\, poiché oltre ai tipici problemi di memoria del t
 rauma (intrusioni\, flashback\, incubi)\, la maggior parte delle persone c
 he ne soffrono presenta anche profondi problemi di regolazione delle emozi
 oni\, del concetto di sé e della cooperazione interpersonale. Dal punto d
 i vista eziologico\, un ruolo importante è svolto dalla ripetuta e grave 
 traumatizzazione\, spesso avvenuta nell'infanzia e nell'adolescenza.\nLa D
 BT-PTSD è stata sviluppata presso lo ZI Mannheim sotto la direzione del P
 rof. M. Bohus come programma di trattamento specifico per i pazienti che s
 offrono delle conseguenze della violenza interpersonale (violenza sessuale
  e/o fisica) nell'infanzia e nell'adolescenza.\nLa DBT-PTSD è un programm
 a terapeutico multimodulare che tratta in modo specifico tutte le componen
 ti del PTSD complesso in una forma molto condensata. Per soddisfare questi
  requisiti\, la DBT-PTSD integra componenti della terapia dialettica compo
 rtamentale (DBT)\, della terapia cognitivo-comportamentale\, della terapia
  dell'accettazione e dell'impegno (ACT) e interventi della terapia focaliz
 zata sulla compassione (CFT).\nDue studi controllati e randomizzati hanno 
 dimostrato un'efficacia molto elevata (effect size intorno a 1\,4)\, ma an
 che un'accettazione e una sicurezza elevate sia in ambito ospedaliero che 
 ambulatoriale.\nCiò è particolarmente degno di nota\, poiché questi stu
 di includevano anche pazienti con gravi sintomi dissociativi\, tendenze cr
 oniche al suicidio e comportamenti autolesionistici\, ed il protocollo ha 
 dimostrato essere un trattamento di successo. La DBT-PTSD è ora inserita 
 in Germania nelle linee guida per il trattamento dei disturbi da stress po
 st-traumatico ed è ampiamente utilizzata anche a livello internazionale.\
 nLa DBT-PTSD può essere offerta come programma intensivo di 12 settimane 
 in regime di ricovero o come programma di terapia individuale puramente am
 bulatoriale di 45 sedute.\nPoiché il programma di trattamento si basa su 
 un manuale molto ben strutturato con numerosi fogli di lavoro\, 6 giorni d
 i formazione sono solitamente sufficienti.\nIl seminario online di 6 giorn
 i fornisce una solida introduzione alla fenomenologia del PTSD complesso e
  al modello di disturbo corrispondente. Inoltre\, trasmette i principi di 
 base\, le regole e le strutture del programma\, nonché gli interventi pi
 ù importanti.\nLo spettro degli interventi spazia dalla psicoeducazione a
 ll'insegnamento di abilità specifiche\, all'esposizione in-sensu\, alle t
 ecniche immaginative per migliorare l'autocompassione e al miglioramento d
 elle capacità di risoluzione dei problemi.\n&nbsp\;\n\nPROGRAMMA:\nVenerd
 ì 17 gennaio 2025 - ore 13.00-18.30\n\n\n 	13.00 - 14.30 Introduzione\n 	
 14.30 - 15.00 Pausa\n 	15.00 - 16.30 Il modello del complex PTSD\n 	16.30 
 - 17.00 Pausa\n 	17.00 - 18.30 La struttura del trattamento\n\nSabato 18 g
 ennaio 2025 - ore 13.00-18.30\n\n\n 	13.00 - 14.30 Pre-trattamento\n 	14.3
 0 - 15.00 Pausa\n 	15.00 - 16.30 Fase di preparazione\n 	16.30 - 17.00 Pau
 sa\n 	17.00 - 18.30 Menta Saggia\n\nDomenica 19 gennaio 2025 - ore 13.00-1
 8.30\n\n\n 	13.00 - 14.30 Evento cardine\n 	14.30 - 15.00 Pausa\n 	15.00 -
  16.30 Vecchio e nuovo sentiero\n 	16.30 - 17.00 Pausa\n 	17.00 - 18.30 Ge
 stire la vergogna e il disgusto\n\nVenerdì 31 gennaio 2025 - ore 13.00-18
 .30\n\n\n 	13.00 - 14.30 Abilità anti-dissociazione\n 	14.30 - 15.00 Paus
 a\n 	15.00 - 16.30 Nozioni di base dell'Esposizione\n 	16.30 - 17.00 Pausa
 \n 	17.00 - 18.30 Introduzione all'Esposizione\n\nSabato 1 febbraio 2025 -
  ore 13.00-18.30\n\n\n 	13.00 - 14.30 Preparazione Esposizione\n 	14.30 - 
 15.00 Pausa\n 	15.00 - 16.30 Esposizione all’evento cardine\n 	16.30 - 1
 7.00 Pausa\n 	17.00 - 18.30 Esposizione all’evento cardine\n\nDomenica 2
  febbraio 2025 - ore 13.00-18.30\n\n\n 	13.00 - 14.30 Esposizione della Me
 nte Saggia\n 	14.30 - 15.00 Pausa\n 	15.00 - 16.30 La vita che si dispiega
 \n 	16.30 - 17.00 Pausa\n 	17.00 - 18.30 Conclusione\n\nÈ prevista la tra
 duzione simultanea in italiano\n&nbsp\;\n\nDOCENTE:\n\n\nPROF. MARTIN BOHU
 S\nMartin Bohus\, MD\, ha conseguito la specializzazione in Psichiatria e 
 in Medicina psicosomatica. Dal 2003 al 2021 è stato titolare della catted
 ra di Medicina Psicosomatica e Psicoterapia all’Università di Heidelber
 g e direttore scientifico dell’Istituto Centrale di Salute Mentale (Mann
 heim). Attualmente è titolare di una borsa di studio di ricerca senior pr
 esso la Ruhr University Bochum ed è visiting professor presso l’Univers
 ità di Anversa e la Harvard Medical School.\nIl Prof. Bohus ha ricevuto v
 ari premi per la ricerca in psicoterapia. È stato presidente della Societ
 à Europea per lo Studio dei Disturbi di Personalità (ESSPD) e presidente
  dell’Associazione tedesca per la DBT. È stato presidente e promotore d
 el Primo Congresso Internazionale sul Disturbo Borderline di Personalità 
 a Berlino nel 2010. E’ il fondatore della rivista leader mondiale sul di
 sturbo borderline di personalità (BPDED).\nIl Prof. Bohus ha attualmente 
 pubblicato oltre 450 tra paper e libri\, principalmente sulla psicopatolog
 ia e sullo sviluppo del trattamento del Disturbo Borderline di Personalit
 à e del PTSD.\nCORSO RIVOLTO A:\n\nSpecializzandi in Psicoterapia\, Psico
 logi abilitati alla Psicoterapia\, Medici Psicoterapeuti\, Medici Psichiat
 ri e Medici Neuropsichiatri Infantili.\nCREDITI ECM:\n\n\nÈ previsto l’
 accreditamento di 40\,5 crediti ECM in FAD Sincrona\n\n\nMODALITA' DI PART
 ECIPAZIONE:\nIl corso si svolgerà in modalità online su piattaforma ZOOM
 .\nAi fini ECM è necessaria la partecipazione in diretta a minimo il 90% 
 del corso.\nSarà possibile rivedere le registrazioni delle lezioni per ma
 ssimo 15 giorni dalla fine del corso.\n&nbsp\;\n\nQUOTE E MODALITÀ DI ISC
 RIZIONE\n\n 	\n\n 	&nbsp\;\n\n\n 	€ 480\,00 + iva (totale € 585\,60) -
  EARLY BIRD entro il 01/12/2024\;\n\n&nbsp\;\n\n\n 	€ 560\,00 + iva (tot
 ale € 683\,20) - STANDARD dal 02/12/2024.\n\n&nbsp\;\nPer gli allievi sp
 ecializzandi in Psicoterapia iscritti alle Scuole afferenti alla Consulta 
 delle Scuole Italiane di Psicoterapia Cognitiva e Comportamentale è previ
 sta una quota dedicata. Per usufruire della Promo Specializzandi è necess
 ario scrivere una mail a corsi@apc.it\n\n\nIN CASO DI RINUNCIA NON È PREV
 ISTO IL RIMBORSO DELLA QUOTA DI PARTECIPAZIONE\n\nÈ possibile pagare la q
 uota di iscrizione in un'unica soluzione con Bonifico Bancario\, Carta di 
 Credito o PayPal.\nPer pagamenti con BONIFICO:\nScuola di Psicoterapia Cog
 nitiva srl\nIBAN IT87K0538703202000001606300\ncausale “DBT-PTSD ONLINE 2
 025”\nCLICCA QUI PER ISCRIVERTI AL CORSO\n\nN.B. Le iscrizioni vengono p
 rese sulla nostra nuova piattaforma di erogazione corsi (https://eventi.ap
 c.it/)\, se non sei ancora registrato alla nuova piattaforma dovrai regist
 rarti con i tuoi dati e poi procedere all’iscrizione e al pagamento del 
 corso.\n\nPer info: corsi@apc.it – Tel e WhatsApp: 3473566781\nSegreteri
 a Organizzativa e Provider ECM: \nSPC s.r.l. – Provider ECM Standard ID 
 3958 - Viale Castro Pretorio\, 116 - Roma\nBROCHURE
ATTACH;FMTTYPE=image/jpeg:https://apc.it/wp-content/uploads/2024/06/NEW-ON
 LINE-2025-Bohus.png
CATEGORIES:Corsi a pagamento,Corsi ecm
END:VEVENT
END:VCALENDAR