BEGIN:VCALENDAR
VERSION:2.0
PRODID:-//wp-events-plugin.com//7.2.3.1//EN
BEGIN:VEVENT
UID:383@apc.it
DTSTART:20240927T090000Z
DTEND:20241207T173000Z
DTSTAMP:20240721T051918Z
URL:https://apc.it/lista-eventi/corso-online-intensivo-sulla-schema-therap
 y-settembre-dicembre-2024/
SUMMARY:CORSO ONLINE INTENSIVO SULLA SCHEMA THERAPY – SETTEMBRE-DICEMBRE 
 2024
DESCRIPTION:SOLD OUT – Questo corso è al completo e le iscrizioni sono c
 hiuse.\nÈ già possibile iscriversi alla prossima edizione del medesimo c
 orso che inizierà a Gennaio 2025.\nCLICCA QUI per info e iscrizioni alla 
 prossima edizione del CORSO ONLINE INTENSIVO SULLA SCHEMA THERAPY – EDIZ
 IONE GENNAIO-MARZO 2025\nCORSO ONLINE INTENSIVO SULLA SCHEMA THERAPY \nIII
 ° EDIZIONE 2024 - SETTEMBRE-DICEMBRE 2024\nTRAINING ACCREDITATO DALLA INT
 ERNATIONAL SOCIETY OF SCHEMA THERAPY (ISST)PER DIVENTARE TERAPEUTI CERTIFI
 CATI IN SCHEMA THERAPY\n &nbsp\; &nbsp\; &nbsp\;&nbsp\; \n\n 	WS1 – 27-2
 8 settembre 2024\n 	WS2 – 08-09 novembre 2024\n\n 	WS3 – 29-30 novembr
 e 2024\n 	WS4 – 06-07 dicembre 2024\norario 9.00-17.30\n\nDocenti: Dr.ss
 e Alessandra Mancini\, Barbara Basile\, Katia Tenore\, Olga Ines Luppino\n
 \nPRESENTAZIONE\nLa&nbsp\;SCHEMA&nbsp\;THERAPY&nbsp\;(ST)&nbsp\;é&nbsp\;u
 no&nbsp\;sviluppo&nbsp\;innovativo&nbsp\;della&nbsp\;psicoterapia&nbsp\;co
 gnitivo comportamentale&nbsp\;altamente&nbsp\;efficace&nbsp\;nel&nbsp\;tra
 ttamento&nbsp\;dei&nbsp\;disturbi&nbsp\;di&nbsp\;personalità&nbsp\;e&nbsp
 \;di&nbsp\;disturbi psicologici&nbsp\;cronici&nbsp\;o&nbsp\;difficili&nbsp
 \;da&nbsp\;trattare.\nEssa&nbsp\;integra\,&nbsp\;oltre&nbsp\;la&nbsp\;CBT\
 ,&nbsp\;diversi&nbsp\;approcci&nbsp\;psicoterapeutici&nbsp\;quali&nbsp\;la
 &nbsp\;Gestalt\,&nbsp\;l’analisi&nbsp\;transazionale\, l’ipnoterapia&n
 bsp\;e&nbsp\;concetti&nbsp\;della&nbsp\;teoria&nbsp\;dell’attaccamento&n
 bsp\;e&nbsp\;delle&nbsp\;scuole&nbsp\;psicodinamiche\,&nbsp\;offrendo un&n
 bsp\;concetto&nbsp\;esplicativo&nbsp\;molto&nbsp\;chiaro&nbsp\;e&nbsp\;in&
 nbsp\;sé&nbsp\;consistente&nbsp\;coerente&nbsp\;e&nbsp\;un&nbsp\;approcci
 o&nbsp\;di&nbsp\;trattamento facilmente&nbsp\;applicabile.\nLa&nbsp\;Schem
 a&nbsp\;Therapy&nbsp\;mira&nbsp\;a&nbsp\;individuare&nbsp\;con&nbsp\;il&nb
 sp\;Paziente&nbsp\;i&nbsp\;propri&nbsp\;gli&nbsp\;schemi&nbsp\;e&nbsp\;le&
 nbsp\;modalità disfunzionali&nbsp\;e&nbsp\;le&nbsp\;loro&nbsp\;origini&nb
 sp\;nell’infanzia\,&nbsp\;a&nbsp\;riconoscerne&nbsp\;gli&nbsp\;effetti&n
 bsp\;nella&nbsp\;vita&nbsp\;e&nbsp\;a&nbsp\;trovare attivamente&nbsp\;moda
 lità&nbsp\;funzionali&nbsp\;per&nbsp\;smantellarli&nbsp\;giungere&nbsp\;a
 d&nbsp\;un&nbsp\;cambiamento. Per&nbsp\;fare&nbsp\;questo&nbsp\;a&nbsp\;ta
 l&nbsp\;fine&nbsp\;utilizza&nbsp\;tecniche&nbsp\;cognitive\,&nbsp\;comport
 amentali&nbsp\;e&nbsp\;di&nbsp\;attivazione&nbsp\;e motiva adattate&nbsp\;
 e&nbsp\;calibrate&nbsp\;alla&nbsp\;ST&nbsp\;o&nbsp\;create&nbsp\;proprio&n
 bsp\;per&nbsp\;la&nbsp\;ST.\nUn&nbsp\;ruolo&nbsp\;centrale&nbsp\;nel&nbsp\
 ;processo&nbsp\;terapeutico&nbsp\;è&nbsp\;da&nbsp\;individuare&nbsp\;nell
 a&nbsp\;particolare&nbsp\;impostazione&nbsp\;della relazione&nbsp\;terapeu
 tica&nbsp\;che&nbsp\;punta\,&nbsp\;in&nbsp\;modo&nbsp\;esplicito&nbsp\;e&n
 bsp\;nei&nbsp\;limiti&nbsp\;del&nbsp\;possibile\,&nbsp\;a&nbsp\;soddisfare
 &nbsp\;i&nbsp\;bisogni del&nbsp\;Paziente\,&nbsp\;non&nbsp\;colti&nbsp\;so
 ddisfatti&nbsp\;nell&nbsp\;́infanzia\,&nbsp\;in&nbsp\;termini&nbsp\;di&nb
 sp\;“limited&nbsp\;reparenting”\n\nIL TRAINING\n Sono previste 60 ore 
 di formazione teorico- pratica \, distribuiti in 4 workshop di 15 ore cias
 cuno.\nI moduli sono a carattere altamente pratico ed esperienziale con nu
 merosi esempi dal vivo\, video e role – play.\n Il numero dei partecipan
 ti è limitato ad un massimo di 20.\n Corso altamente esperienziale\, è r
 ichiesta la partecipazione attiva di tutti i partecipanti.\n I 4 MODULI RA
 PPRESENTANO LE BASI TEORICHE NECESSARIE (MIN 60 ORE) PER DIVENTARE TERAPEU
 TA ED EVENTUALMENTE. TRAINER E SUPERVISORE IN SCHEMA THERAPY RICONOSCI UTO
  DALL’INTERNATIONAL SOCIETY OF SCHEMA THERAPY (ISST).\nA conclusione del
 la formazione in aula\, chi intendesse conseguire il riconoscimento intern
 azionale di terapeuta per la Schema Therapy\, come da indicazione della In
 ternational Society of Schema Therapy è tenuto a svolgere 20 ore di super
 visione con un trainer e supervisore riconosciuto dalla ISST\, un minimo d
 i 5 ore di valutazione dei video\, di cui 4 da un supervisore interno e 1 
 da un supervisore indipendente.\nMaggiori informazioni alla&nbsp\;pagina: 
  https://schematherapysociety.org/page–19653\nIndicazioni per il consegu
 imento del titolo di terapeuta certificato dalla ISST per la schema therap
 y\n\n 	La supervisione può avere cadenza quindicinale (consigliata per co
 ncludere la formazione entro un anno dall’inizio) o\, in accordo con il 
 supervisore\, può arrivare ad una cadenza massimo mensile\;\n 	Ogni corsi
 sta deve produrre 1 o più audio/video relativi a sedute terapeutiche con 
 pazienti in cui utilizza la Schema Therapy\;\n 	Ogni corsista è tenuto al
 la trascrizione di 1 video/audio da far visionare ad un supervisore estern
 o.\n\nProgramma WS 1\nINTRODUZIONE ALLA SCHEMA THERAPY (ST)venerdì 27 - s
 abato 28 settembre 2024&nbsp\; orario 09.00-17.30DOCENTE: DR.SSA ALESSANDR
 A MANCINIObiettivi formativi:Presentazione della base teorica della Schema
  Therapy ed introduzione alle strategie relazionali\;Introduzione al model
 lo degli Schemi e dei Mode e riconoscimento delle loro manifestazioni clin
 icheConcettualizzazione del caso secondo il modello riconosciuto dalla Soc
 ietà Internazionale di Schema Therapy.Programma:• Teoria di base : orig
 ine ed efficacia della ST\; Schemi Coping Styles e Modes (role play o vide
 o)\; ruolo dei bisogni emotivi primari nella Teoria degli Schemi\;• L’
  Assessment : raccolta della storia di vita\; I questionari (YSQ\; YPI)\; 
 Imagery del posto sicuro e Imagery diagnostico\;• Concettualizzazione de
 l caso : introduzione alla formulazione del caso secondo il modello della 
 ST (criteri ISST) e concettualizzazione di un proprio caso clinico\;• St
 rategie terapeutiche della ST: introduzione alle tecniche cognitive\; espe
 rienziali\; relazionali e comportamentali.\n\nProgramma WS 2\nIL MODELLO D
 EI MODE E LE TECNICHE IMMAGINATIVE PER IL CAMBIAMENTOvenerdì 08 - sabato 
 09 novembre 2024 orario 09.00-17.30DOCENTE: DR.SSA KATIA TENOREObiettivi f
 ormativi:Fornire le basi teoriche ed effettuare esercitazioni pratiche sui
  mode e sulle diverse tecniche immaginative durante le diverse fasi del tr
 attamento. Aumentare la sicurezza e la competenza nello scegliere tra le d
 iverse tecniche immaginative e nel metterle in pratica.Programma:Tecniche 
 immaginative (con live demo\, esercitazioni e video)• Basi teoriche ed e
 fficacia delle tecniche immaginative▪ Imagery del posto sicuro▪ Imager
 y diagnostico▪ Imagery rescripring▪ Imagery rescripting fine tuning▪
  Pratica esperienziale in immaginazione\n\nProgramma WS 3\nIL LAVORO CON G
 LI SCHEMI DEL TERAPEUTA – STRUMENTI COGNITIVI E COMPORTAMENTALIvenerdì 
 29 - sabato 30 novembre 2024&nbsp\; orario 09.00-17.30DOCENTE: DR.SSA OLGA
  INES LUPPINOObiettivi formativi:• Imparare a impostare la relazione ter
 apeutica in termini di “Limited Reparenting“\;• Aiutare il terapeuta
  a identificare i propri schemi e mode\, a collegare le condizioni attivan
 ti con le proprie risposte emotive allo scopo di mantenere una funzionale 
 posizione terapeutica• Programma:• Le tecniche relazionali: Limited Re
 parenting e Confronto Empatico• Dimostrazioni pratiche e role play• Im
 parare a porre regole e limiti al paziente• Il cambiamento cognitivo e c
 omportamentale• Tecniche cognitive e di pattern breaking• Pratica espe
 rienziale in immaginazione per lavorare sui propri schemi• Historical Ro
 le Play\n\nProgramma WS 4\nSCHEMA MODE WORK CON I DISTURBI DI PERSONALITÀ
 venerdì 06 – sabato 07 dicembre 2024&nbsp\; orario 09.00-17.30DOCENTE: 
 DR.SSA BARBARA BASILEObiettivi formativi:Aumentare le competenze di tratta
 mento già acquisite specificatamente al disturbo borderline e narcisistic
 o di personalità e focalizzare sulla fase finale della terapia potenziand
 o un funzionamento più sano e funzionale.Particolare attenzione viene ded
 icata anche alla tecnica delle sedie.ProgrammaApprofondimento del Mode Wor
 k (formulazione del caso\, live demo e chair work) con:• Disturbo Border
 line di Personalità• Disturbo Narcisistico di Personalità• Potenziam
 ento del mode dell’Adulto sano• Accenno ai disturbi di Personalità de
 l Cluster C\n\nMODALITÀ DI SVOLGIMENTO:Il corso si svolgerà in modalità
  online attraverso la piattaforma ZOOM.Nella conferma di iscrizione riceve
 rete tutte le indicazioni e le istruzioni di partecipazione\n\nIL CORSO È
  RIVOLTO A:- Specializzandi in Psicoterapia che nel 2024 frequentano il IV
  anno\;- Psicologi abilitati alla Psicoterapia\;- Medici Psicoterapeuti\;-
  Medici Psichiatri\;- Medici Neuropsichiatri Infantili.Il numero dei parte
 cipanti è limitato ad un massimo di 20.\n\nCorso altamente esperienziale\
 , è richiesta la partecipazione attiva di tutti i partecipanti.\n\nÈ PRE
 VISTO L’ACCREDITAMENTO DI 50 CREDITI ECM\n\nATTESTAZIONIA conclusione di
  ogni workshop sarà rilasciato un attestato di partecipazione.Al termine 
 del ciclo intensivo (WS1\, WS2\, WS3\, WS4) sarà rilasciato un attestato 
 riconosciuto dalla ISST (International Society of Schema Therapy)\, relati
 vo alla parte teorica (60 ore)\, necessaria nel percorso formativo per div
 entare supervisore e docente /trainer in schema therapy.\nSOLD OUT – Que
 sto corso è al completo e le iscrizioni sono chiuse.\nÈ già possibile i
 scriversi alla prossima edizione del medesimo corso che inizierà a Gennai
 o 2025.\nCLICCA QUI per info e iscrizioni alla prossima edizione del CORSO
  ONLINE INTENSIVO SULLA SCHEMA THERAPY – EDIZIONE GENNAIO-MARZO 2025\n&n
 bsp\;\n\nPer info: corsi@apc.it – Tel e WhatsApp 3473566781\n\nSegreteri
 a Organizzativa e Provider ECM: \n\nSPC s.r.l. – Provider ECM Standard I
 D 3958 – Viale Castro Pretorio\, 116 – Roma\n\nBROCHURE
ATTACH;FMTTYPE=image/jpeg:https://apc.it/wp-content/uploads/2024/03/Traini
 ng-Schema-Therapy-III-edizione-2024-sett-dic-2024.png
CATEGORIES:Corsi a pagamento,Corsi ecm,Corsi Schema Therapy
END:VEVENT
END:VCALENDAR