BEGIN:VCALENDAR
VERSION:2.0
PRODID:-//wp-events-plugin.com//7.2.3.1//EN
BEGIN:VEVENT
UID:357@apc.it
DTSTART:20240517T090000Z
DTEND:20240720T173000Z
DTSTAMP:20240721T053059Z
URL:https://apc.it/lista-eventi/corso-online-intensivo-sulla-schema-therap
 y-maggio-ottobre-2024/
SUMMARY:CORSO ONLINE INTENSIVO SULLA SCHEMA THERAPY – MAGGIO-OTTOBRE 2024
DESCRIPTION:SOLD OUT - Questo corso è al completo e le iscrizioni sono chi
 use.\nÈ già possibile iscriversi alla prossima edizione del medesimo cor
 so che inizierà a Settembre 2024.\nCLICCA QUI per info e iscrizioni alla 
 prossima edizione del CORSO ONLINE INTENSIVO SULLA SCHEMA THERAPY - EDIZIO
 NE SETTEMBRE-DICEMBRE 2024\nCORSO ONLINE INTENSIVO SULLA SCHEMA THERAPY \n
 II° EDIZIONE - MAGGIO-OTTOBRE 2024\nTRAINING ACCREDITATO DALLA INTERNATIO
 NAL SOCIETY OF SCHEMA THERAPY (ISST)PER DIVENTARE TERAPEUTI CERTIFICATI IN
  SCHEMA THERAPY\n &nbsp\; &nbsp\; &nbsp\;&nbsp\; \n\n 	WS1 – 17-18 maggi
 o 2024\n 	WS2 – 14-15 giugno 2024\n\n 	WS3 – 20-21 settembre 2024\n 	W
 S4 – 18-19 ottobre 2024\norario 9.00-17.30\n\nDocenti: Dr.sse Alessandra
  Mancini\, Barbara Basile\, Katia Tenore\, Olga Ines Luppino\n\nPRESENTAZI
 ONE\nLa&nbsp\;SCHEMA&nbsp\;THERAPY&nbsp\;(ST)&nbsp\;é&nbsp\;uno&nbsp\;svi
 luppo&nbsp\;innovativo&nbsp\;della&nbsp\;psicoterapia&nbsp\;cognitivo comp
 ortamentale&nbsp\;altamente&nbsp\;efficace&nbsp\;nel&nbsp\;trattamento&nbs
 p\;dei&nbsp\;disturbi&nbsp\;di&nbsp\;personalità&nbsp\;e&nbsp\;di&nbsp\;d
 isturbi psicologici&nbsp\;cronici&nbsp\;o&nbsp\;difficili&nbsp\;da&nbsp\;t
 rattare.\nEssa&nbsp\;integra\,&nbsp\;oltre&nbsp\;la&nbsp\;CBT\,&nbsp\;dive
 rsi&nbsp\;approcci&nbsp\;psicoterapeutici&nbsp\;quali&nbsp\;la&nbsp\;Gesta
 lt\,&nbsp\;l’analisi&nbsp\;transazionale\, l’ipnoterapia&nbsp\;e&nbsp\
 ;concetti&nbsp\;della&nbsp\;teoria&nbsp\;dell’attaccamento&nbsp\;e&nbsp\
 ;delle&nbsp\;scuole&nbsp\;psicodinamiche\,&nbsp\;offrendo un&nbsp\;concett
 o&nbsp\;esplicativo&nbsp\;molto&nbsp\;chiaro&nbsp\;e&nbsp\;in&nbsp\;sé&nb
 sp\;consistente&nbsp\;coerente&nbsp\;e&nbsp\;un&nbsp\;approccio&nbsp\;di&n
 bsp\;trattamento facilmente&nbsp\;applicabile.\nLa&nbsp\;Schema&nbsp\;Ther
 apy&nbsp\;mira&nbsp\;a&nbsp\;individuare&nbsp\;con&nbsp\;il&nbsp\;Paziente
 &nbsp\;i&nbsp\;propri&nbsp\;gli&nbsp\;schemi&nbsp\;e&nbsp\;le&nbsp\;modali
 tà disfunzionali&nbsp\;e&nbsp\;le&nbsp\;loro&nbsp\;origini&nbsp\;nell’i
 nfanzia\,&nbsp\;a&nbsp\;riconoscerne&nbsp\;gli&nbsp\;effetti&nbsp\;nella&n
 bsp\;vita&nbsp\;e&nbsp\;a&nbsp\;trovare attivamente&nbsp\;modalità&nbsp\;
 funzionali&nbsp\;per&nbsp\;smantellarli&nbsp\;giungere&nbsp\;ad&nbsp\;un&n
 bsp\;cambiamento. Per&nbsp\;fare&nbsp\;questo&nbsp\;a&nbsp\;tal&nbsp\;fine
 &nbsp\;utilizza&nbsp\;tecniche&nbsp\;cognitive\,&nbsp\;comportamentali&nbs
 p\;e&nbsp\;di&nbsp\;attivazione&nbsp\;e motiva adattate&nbsp\;e&nbsp\;cali
 brate&nbsp\;alla&nbsp\;ST&nbsp\;o&nbsp\;create&nbsp\;proprio&nbsp\;per&nbs
 p\;la&nbsp\;ST.\nUn&nbsp\;ruolo&nbsp\;centrale&nbsp\;nel&nbsp\;processo&nb
 sp\;terapeutico&nbsp\;è&nbsp\;da&nbsp\;individuare&nbsp\;nella&nbsp\;part
 icolare&nbsp\;impostazione&nbsp\;della relazione&nbsp\;terapeutica&nbsp\;c
 he&nbsp\;punta\,&nbsp\;in&nbsp\;modo&nbsp\;esplicito&nbsp\;e&nbsp\;nei&nbs
 p\;limiti&nbsp\;del&nbsp\;possibile\,&nbsp\;a&nbsp\;soddisfare&nbsp\;i&nbs
 p\;bisogni del&nbsp\;Paziente\,&nbsp\;non&nbsp\;colti&nbsp\;soddisfatti&nb
 sp\;nell&nbsp\;́infanzia\,&nbsp\;in&nbsp\;termini&nbsp\;di&nbsp\;“limit
 ed&nbsp\;reparenting”\n\nIL TRAINING\n Sono previste 60 ore di formazion
 e teorico- pratica \, distribuiti in 4 workshop di 15 ore ciascuno.\nI mod
 uli sono a carattere altamente pratico ed esperienziale con numerosi esemp
 i dal vivo\, video e role – play.\n Il numero dei partecipanti è limita
 to ad un massimo di 20.\n Corso altamente esperienziale\, è richiesta la 
 partecipazione attiva di tutti i partecipanti.\n I 4 MODULI RAPPRESENTANO 
 LE BASI TEORICHE NECESSARIE (MIN 60 ORE) PER DIVENTARE TERAPEUTA ED EVENTU
 ALMENTE. TRAINER E SUPERVISORE IN SCHEMA THERAPY RICONOSCI UTO DALL’INTE
 RNATIONAL SOCIETY OF SCHEMA THERAPY (ISST).\nA conclusione della formazion
 e in aula\, chi intendesse conseguire il riconoscimento internazionale di 
 terapeuta per la Schema Therapy\, come da indicazione della International 
 Society of Schema Therapy è tenuto a svolgere 20 ore di supervisione con 
 un trainer e supervisore riconosciuto dalla ISST\, un minimo di 5 ore di v
 alutazione dei video\, di cui 4 da un supervisore interno e 1 da un superv
 isore indipendente.\nMaggiori informazioni alla&nbsp\;pagina:  https://sch
 ematherapysociety.org/page–19653\nIndicazioni per il conseguimento del t
 itolo di terapeuta certificato dalla ISST per la schema therapy\n\n 	La su
 pervisione può avere cadenza quindicinale (consigliata per concludere la 
 formazione entro un anno dall’inizio) o\, in accordo con il supervisore\
 , può arrivare ad una cadenza massimo mensile\;\n 	Ogni corsista deve pro
 durre 1 o più audio/video relativi a sedute terapeutiche con pazienti in 
 cui utilizza la Schema Therapy\;\n 	Ogni corsista è tenuto alla trascrizi
 one di 1 video/audio da far visionare ad un supervisore esterno.\n\nProgra
 mma WS 1\nINTRODUZIONE ALLA SCHEMA THERAPY (ST)venerdì 17 - sabato 18 mag
 gio 2024&nbsp\; orario 09.00-17.30DOCENTE: DR.SSA ALESSANDRA MANCINIObiett
 ivi formativi:Presentazione della base teorica della Schema Therapy ed int
 roduzione alle strategie relazionali\;Introduzione al modello degli Schemi
  e dei Mode e riconoscimento delle loro manifestazioni clinicheConcettuali
 zzazione del caso secondo il modello riconosciuto dalla Società Internazi
 onale di Schema Therapy.Programma:• Teoria di base : origine ed efficaci
 a della ST\; Schemi Coping Styles e Modes (role play o video)\; ruolo dei 
 bisogni emotivi primari nella Teoria degli Schemi\;• L’ Assessment : r
 accolta della storia di vita\; I questionari (YSQ\; YPI)\; Imagery del pos
 to sicuro e Imagery diagnostico\;• Concettualizzazione del caso : introd
 uzione alla formulazione del caso secondo il modello della ST (criteri ISS
 T) e concettualizzazione di un proprio caso clinico\;• Strategie terapeu
 tiche della ST: introduzione alle tecniche cognitive\; esperienziali\; rel
 azionali e comportamentali.\n\nProgramma WS 2\nIL MODELLO DEI MODE E LE TE
 CNICHE IMMAGINATIVE PER IL CAMBIAMENTOvenerdì 14 - sabato 15 giugno 2024 
 orario 09.00-17.30DOCENTE: DR.SSA KATIA TENOREObiettivi formativi:Fornire 
 le basi teoriche ed effettuare esercitazioni pratiche sui mode e sulle div
 erse tecniche immaginative durante le diverse fasi del trattamento. Aument
 are la sicurezza e la competenza nello scegliere tra le diverse tecniche i
 mmaginative e nel metterle in pratica.Programma:Tecniche immaginative (con
  live demo\, esercitazioni e video)• Basi teoriche ed efficacia delle te
 cniche immaginative▪ Imagery del posto sicuro▪ Imagery diagnostico▪ 
 Imagery rescripring▪ Imagery rescripting fine tuning▪ Pratica esperien
 ziale in immaginazione\n\nProgramma WS 3\nIL LAVORO CON GLI SCHEMI DEL TER
 APEUTA – STRUMENTI COGNITIVI E COMPORTAMENTALIvenerdì 20 - sabato 21 se
 ttembre 2024&nbsp\; orario 09.00-17.30DOCENTE: DR.SSA OLGA INES LUPPINOObi
 ettivi formativi:• Imparare a impostare la relazione terapeutica in term
 ini di “Limited Reparenting“\;• Aiutare il terapeuta a identificare 
 i propri schemi e mode\, a collegare le condizioni attivanti con le propri
 e risposte emotive allo scopo di mantenere una funzionale posizione terape
 utica• Programma:• Le tecniche relazionali: Limited Reparenting e Conf
 ronto Empatico• Dimostrazioni pratiche e role play• Imparare a porre r
 egole e limiti al paziente• Il cambiamento cognitivo e comportamentale
 • Tecniche cognitive e di pattern breaking• Pratica esperienziale in i
 mmaginazione per lavorare sui propri schemi• Historical Role Play\n\nPro
 gramma WS 4\nSCHEMA MODE WORK CON I DISTURBI DI PERSONALITÀvenerdì 18 
 – sabato 19 ottobre 2024&nbsp\; orario 09.00-17.30DOCENTE: DR.SSA BARBAR
 A BASILEObiettivi formativi:Aumentare le competenze di trattamento già ac
 quisite specificatamente al disturbo borderline e narcisistico di personal
 ità e focalizzare sulla fase finale della terapia potenziando un funziona
 mento più sano e funzionale.Particolare attenzione viene dedicata anche a
 lla tecnica delle sedie.ProgrammaApprofondimento del Mode Work (formulazio
 ne del caso\, live demo e chair work) con:• Disturbo Borderline di Perso
 nalità• Disturbo Narcisistico di Personalità• Potenziamento del mode
  dell’Adulto sano• Accenno ai disturbi di Personalità del Cluster C\n
 \nMODALITÀ DI SVOLGIMENTO:Il corso si svolgerà in modalità online attra
 verso la piattaforma ZOOM.Nella conferma di iscrizione riceverete tutte le
  indicazioni e le istruzioni di partecipazione\n\nIL CORSO È RIVOLTO A:- 
 Specializzandi in Psicoterapia che nel 2024 frequentano il IV anno\;- Psic
 ologi abilitati alla Psicoterapia\;- Medici Psicoterapeuti\;- Medici Psich
 iatri\;- Medici Neuropsichiatri Infantili.Il numero dei partecipanti è li
 mitato ad un massimo di 20.\n\nCorso altamente esperienziale\, è richiest
 a la partecipazione attiva di tutti i partecipanti.\n\nÈ PREVISTO L’ACC
 REDITAMENTO DI 50 CREDITI ECM\n\nATTESTAZIONIA conclusione di ogni worksho
 p sarà rilasciato un attestato di partecipazione.Al termine del ciclo int
 ensivo (WS1\, WS2\, WS3\, WS4) sarà rilasciato un attestato riconosciuto 
 dalla ISST (International Society of Schema Therapy)\, relativo alla parte
  teorica (60 ore)\, necessaria nel percorso formativo per diventare superv
 isore e docente /trainer in schema therapy.\nSOLD OUT - Questo corso è al
  completo e le iscrizioni sono chiuse.\nÈ&nbsp\;già possibile iscriversi
  alla prossima edizione del medesimo corso che inizierà a maggio 2024.\nC
 LICCA QUI per info e iscrizioni alla prossima edizione del CORSO ONLINE IN
 TENSIVO SULLA SCHEMA THERAPY - EDIZIONE SETTEMBRE-DICEMBRE 2024\n&nbsp\;\n
 \nIl pagamento delle Supervisioni non è incluso nella quota di iscrizione
 .In caso di rinuncia al corso non è prevista la restituzione della quota 
 di partecipazione.\n\nPer info: corsi@apc.it – Tel e WhatsApp 3473566781
 \n\nSegreteria Organizzativa e Provider ECM: \n\nSPC s.r.l. – Provider E
 CM Standard ID 3958 – Viale Castro Pretorio\, 116 – Roma\n\nBROCHURE\n
 \n&nbsp\;
ATTACH;FMTTYPE=image/jpeg:https://apc.it/wp-content/uploads/2023/11/Traini
 ng-Schema-Therapy-II-edizione-2024-maggio-ottobre-2024.png
CATEGORIES:Corsi a pagamento,Corsi ecm,Corsi Schema Therapy
END:VEVENT
END:VCALENDAR