BEGIN:VCALENDAR
VERSION:2.0
PRODID:-//wp-events-plugin.com//7.2.3.1//EN
BEGIN:VEVENT
UID:397@apc.it
DTSTART:20250110T090000Z
DTEND:20250329T173000Z
DTSTAMP:20241204T095257Z
URL:https://apc.it/lista-eventi/corso-online-intensivo-sulla-schema-therap
 y-gennaio-marzo-2025/
SUMMARY:CORSO ONLINE INTENSIVO SULLA SCHEMA THERAPY – GENNAIO-MARZO 2025
DESCRIPTION:SOLD OUT – Questo corso è al completo e le iscrizioni sono c
 hiuse.\nÈ già possibile iscriversi alla prossima edizione del medesimo c
 orso che inizierà ad Aprile 2025.\nCLICCA QUI per info e iscrizioni alla 
 prossima edizione del CORSO ONLINE INTENSIVO SULLA SCHEMA THERAPY – EDIZ
 IONE APRILE-GIUGNO 2025\nCORSO ONLINE INTENSIVO SULLA SCHEMA THERAPY \nI°
  EDIZIONE 2025 - GENNAIO-MARZO 2025\nTRAINING ACCREDITATO DALLA INTERNATIO
 NAL SOCIETY OF SCHEMA THERAPY (ISST)PER DIVENTARE TERAPEUTI CERTIFICATI IN
  SCHEMA THERAPY\n &nbsp\; &nbsp\; &nbsp\;&nbsp\; \n\n 	WS1 – 10-11 genna
 io 2025\n\n 	WS2 – 28 febbraio-1° marzo 2025\n\n 	WS3 – 14-15 marzo 2
 025\n\n 	WS4 – 28-29 marzo 2025\norario 9.00-17.30\n\nDocenti: Dr.sse Al
 essandra Mancini\, Barbara Basile\, Katia Tenore\, Olga Ines Luppino\n\nPR
 ESENTAZIONE\nLa&nbsp\;SCHEMA&nbsp\;THERAPY&nbsp\;(ST)&nbsp\;é&nbsp\;uno&n
 bsp\;sviluppo&nbsp\;innovativo&nbsp\;della&nbsp\;psicoterapia&nbsp\;cognit
 ivo comportamentale&nbsp\;altamente&nbsp\;efficace&nbsp\;nel&nbsp\;trattam
 ento&nbsp\;dei&nbsp\;disturbi&nbsp\;di&nbsp\;personalità&nbsp\;e&nbsp\;di
 &nbsp\;disturbi psicologici&nbsp\;cronici&nbsp\;o&nbsp\;difficili&nbsp\;da
 &nbsp\;trattare.\nEssa&nbsp\;integra\,&nbsp\;oltre&nbsp\;la&nbsp\;CBT\,&nb
 sp\;diversi&nbsp\;approcci&nbsp\;psicoterapeutici&nbsp\;quali&nbsp\;la&nbs
 p\;Gestalt\,&nbsp\;l’analisi&nbsp\;transazionale\, l’ipnoterapia&nbsp\
 ;e&nbsp\;concetti&nbsp\;della&nbsp\;teoria&nbsp\;dell’attaccamento&nbsp\
 ;e&nbsp\;delle&nbsp\;scuole&nbsp\;psicodinamiche\,&nbsp\;offrendo un&nbsp\
 ;concetto&nbsp\;esplicativo&nbsp\;molto&nbsp\;chiaro&nbsp\;e&nbsp\;in&nbsp
 \;sé&nbsp\;consistente&nbsp\;coerente&nbsp\;e&nbsp\;un&nbsp\;approccio&nb
 sp\;di&nbsp\;trattamento facilmente&nbsp\;applicabile.\nLa&nbsp\;Schema&nb
 sp\;Therapy&nbsp\;mira&nbsp\;a&nbsp\;individuare&nbsp\;con&nbsp\;il&nbsp\;
 Paziente&nbsp\;i&nbsp\;propri&nbsp\;gli&nbsp\;schemi&nbsp\;e&nbsp\;le&nbsp
 \;modalità disfunzionali&nbsp\;e&nbsp\;le&nbsp\;loro&nbsp\;origini&nbsp\;
 nell’infanzia\,&nbsp\;a&nbsp\;riconoscerne&nbsp\;gli&nbsp\;effetti&nbsp\
 ;nella&nbsp\;vita&nbsp\;e&nbsp\;a&nbsp\;trovare attivamente&nbsp\;modalit
 à&nbsp\;funzionali&nbsp\;per&nbsp\;smantellarli&nbsp\;giungere&nbsp\;ad&n
 bsp\;un&nbsp\;cambiamento. Per&nbsp\;fare&nbsp\;questo&nbsp\;a&nbsp\;tal&n
 bsp\;fine&nbsp\;utilizza&nbsp\;tecniche&nbsp\;cognitive\,&nbsp\;comportame
 ntali&nbsp\;e&nbsp\;di&nbsp\;attivazione&nbsp\;e motiva adattate&nbsp\;e&n
 bsp\;calibrate&nbsp\;alla&nbsp\;ST&nbsp\;o&nbsp\;create&nbsp\;proprio&nbsp
 \;per&nbsp\;la&nbsp\;ST.\nUn&nbsp\;ruolo&nbsp\;centrale&nbsp\;nel&nbsp\;pr
 ocesso&nbsp\;terapeutico&nbsp\;è&nbsp\;da&nbsp\;individuare&nbsp\;nella&n
 bsp\;particolare&nbsp\;impostazione&nbsp\;della relazione&nbsp\;terapeutic
 a&nbsp\;che&nbsp\;punta\,&nbsp\;in&nbsp\;modo&nbsp\;esplicito&nbsp\;e&nbsp
 \;nei&nbsp\;limiti&nbsp\;del&nbsp\;possibile\,&nbsp\;a&nbsp\;soddisfare&nb
 sp\;i&nbsp\;bisogni del&nbsp\;Paziente\,&nbsp\;non&nbsp\;colti&nbsp\;soddi
 sfatti&nbsp\;nell&nbsp\;́infanzia\,&nbsp\;in&nbsp\;termini&nbsp\;di&nbsp\
 ;“limited&nbsp\;reparenting”\n\nIL TRAINING\n Sono previste 60 ore di 
 formazione teorico- pratica \, distribuiti in 4 workshop di 15 ore ciascun
 o.\nI moduli sono a carattere altamente pratico ed esperienziale con numer
 osi esempi dal vivo\, video e role – play.\n Il numero dei partecipanti 
 è limitato ad un massimo di 20.\n Corso altamente esperienziale\, è rich
 iesta la partecipazione attiva di tutti i partecipanti.\n I 4 MODULI RAPPR
 ESENTANO LE BASI TEORICHE NECESSARIE (MIN 60 ORE) PER DIVENTARE TERAPEUTA 
 ED EVENTUALMENTE. TRAINER E SUPERVISORE IN SCHEMA THERAPY RICONOSCI UTO DA
 LL’INTERNATIONAL SOCIETY OF SCHEMA THERAPY (ISST).\nA conclusione della 
 formazione in aula\, chi intendesse conseguire il riconoscimento internazi
 onale di terapeuta per la Schema Therapy\, come da indicazione della Inter
 national Society of Schema Therapy è tenuto a svolgere 20 ore di supervis
 ione con un trainer e supervisore riconosciuto dalla ISST\, un minimo di 5
  ore di valutazione dei video\, di cui 4 da un supervisore interno e 1 da 
 un supervisore indipendente.\nMaggiori informazioni alla&nbsp\;pagina:  ht
 tps://schematherapysociety.org/page–19653\nIndicazioni per il conseguime
 nto del titolo di terapeuta certificato dalla ISST per la schema therapy\n
 \n 	La supervisione può avere cadenza quindicinale (consigliata per concl
 udere la formazione entro un anno dall’inizio) o\, in accordo con il sup
 ervisore\, può arrivare ad una cadenza massimo mensile\;\n 	Ogni corsista
  deve produrre 1 o più audio/video relativi a sedute terapeutiche con paz
 ienti in cui utilizza la Schema Therapy\;\n 	Ogni corsista è tenuto alla 
 trascrizione di 1 video/audio da far visionare ad un supervisore esterno.\
 n\n&nbsp\;\n\nREGOLAMENTO\n\n\n 	La frequenza a tutte le giornate del cors
 o è obbligatoria\, con telecamera accesa e partecipazione attiva con part
 icolare riferimento alle esercitazioni.\n 	Ai fini della Certificazione In
 ternazionale ISST\, sono ammesse al massimo n° 2 ore di assenza per ciasc
 un Workshop. Non sono previsti recuperi. Quindi\, in caso di assenza\, per
  ottenere la certificazione del Training sarà necessario iscriversi nuova
 mente e rifrequentare l’intero corso.\n 	Ai fini dell’assegnazione dei
  crediti ECM è consentito il 10% di assenza sul totale delle ore del cors
 o (60 ore).\n 	Le registrazioni delle lezioni NON saranno disponibili.\n\n
 &nbsp\;\n\nProgramma WS 1\nINTRODUZIONE ALLA SCHEMA THERAPY (ST)venerdì 1
 0 - sabato 11 gennaio 2025&nbsp\; orario 09.00-17.30DOCENTE: DR.SSA ALESSA
 NDRA MANCINIObiettivi formativi:Presentazione della base teorica della Sch
 ema Therapy ed introduzione alle strategie relazionali\;Introduzione al mo
 dello degli Schemi e dei Mode e riconoscimento delle loro manifestazioni c
 linicheConcettualizzazione del caso secondo il modello riconosciuto dalla 
 Società Internazionale di Schema Therapy.Programma:• Teoria di base : o
 rigine ed efficacia della ST\; Schemi Coping Styles e Modes (role play o v
 ideo)\; ruolo dei bisogni emotivi primari nella Teoria degli Schemi\;• L
 ’ Assessment : raccolta della storia di vita\; I questionari (YSQ\; YPI)
 \; Imagery del posto sicuro e Imagery diagnostico\;• Concettualizzazione
  del caso : introduzione alla formulazione del caso secondo il modello del
 la ST (criteri ISST) e concettualizzazione di un proprio caso clinico\;•
  Strategie terapeutiche della ST: introduzione alle tecniche cognitive\; e
 sperienziali\; relazionali e comportamentali.\n\nProgramma WS 2\nIL MODELL
 O DEI MODE E LE TECNICHE IMMAGINATIVE PER IL CAMBIAMENTOvenerdì 28 febbra
 io - sabato 1 marzo 2025 orario 09.00-17.30DOCENTE: DR.SSA KATIA TENOREObi
 ettivi formativi:Fornire le basi teoriche ed effettuare esercitazioni prat
 iche sui mode e sulle diverse tecniche immaginative durante le diverse fas
 i del trattamento. Aumentare la sicurezza e la competenza nello scegliere 
 tra le diverse tecniche immaginative e nel metterle in pratica.Programma:T
 ecniche immaginative (con live demo\, esercitazioni e video)• Basi teori
 che ed efficacia delle tecniche immaginative▪ Imagery del posto sicuro
 ▪ Imagery diagnostico▪ Imagery rescripring▪ Imagery rescripting fine
  tuning▪ Pratica esperienziale in immaginazione\n\nProgramma WS 3\nIL LA
 VORO CON GLI SCHEMI DEL TERAPEUTA – STRUMENTI COGNITIVI E COMPORTAMENTAL
 Ivenerdì 14 - sabato 15 marzo 2025&nbsp\; orario 09.00-17.30DOCENTE: DR.S
 SA OLGA INES LUPPINOObiettivi formativi:• Imparare a impostare la relazi
 one terapeutica in termini di “Limited Reparenting“\;• Aiutare il te
 rapeuta a identificare i propri schemi e mode\, a collegare le condizioni 
 attivanti con le proprie risposte emotive allo scopo di mantenere una funz
 ionale posizione terapeutica• Programma:• Le tecniche relazionali: Lim
 ited Reparenting e Confronto Empatico• Dimostrazioni pratiche e role pla
 y• Imparare a porre regole e limiti al paziente• Il cambiamento cognit
 ivo e comportamentale• Tecniche cognitive e di pattern breaking• Prati
 ca esperienziale in immaginazione per lavorare sui propri schemi• Histor
 ical Role Play\n\nProgramma WS 4\nSCHEMA MODE WORK CON I DISTURBI DI PERSO
 NALITÀvenerdì 28 – sabato 29&nbsp\; marzo 2025&nbsp\; orario 09.00-17.
 30DOCENTE: DR.SSA BARBARA BASILEObiettivi formativi:Aumentare le competenz
 e di trattamento già acquisite specificatamente al disturbo borderline e 
 narcisistico di personalità e focalizzare sulla fase finale della terapia
  potenziando un funzionamento più sano e funzionale.Particolare attenzion
 e viene dedicata anche alla tecnica delle sedie.ProgrammaApprofondimento d
 el Mode Work (formulazione del caso\, live demo e chair work) con:• Dist
 urbo Borderline di Personalità• Disturbo Narcisistico di Personalità
 • Potenziamento del mode dell’Adulto sano• Accenno ai disturbi di Pe
 rsonalità del Cluster C\n\nMODALITÀ DI SVOLGIMENTO:Il corso si svolgerà
  in modalità online attraverso la piattaforma ZOOM.Nella conferma di iscr
 izione riceverete tutte le indicazioni e le istruzioni di partecipazione\n
 \nIL CORSO È RIVOLTO A:- Specializzandi in Psicoterapia che nel 2025 freq
 uentano il IV anno\;- Psicologi abilitati alla Psicoterapia\;- Medici Psic
 oterapeuti\;- Medici Psichiatri\;- Medici Neuropsichiatri Infantili.Il num
 ero dei partecipanti è limitato ad un massimo di 20.\n\nCorso altamente e
 sperienziale\, è richiesta la partecipazione attiva di tutti i partecipan
 ti.\n\nÈ PREVISTO L’ACCREDITAMENTO DI 50 CREDITI ECM\n\nATTESTAZIONIAl 
 termine del ciclo intensivo (WS1\, WS2\, WS3\, WS4) sarà rilasciato un at
 testato riconosciuto dalla ISST (International Society of Schema Therapy)\
 , relativo alla parte teorica (60 ore)\, necessaria nel percorso formativo
  per diventare supervisore e docente /trainer in schema therapy.\nSOLD OUT
  – Questo corso è al completo e le iscrizioni sono chiuse.\nÈ già pos
 sibile iscriversi alla prossima edizione del medesimo corso che inizierà 
 ad Aprile 2025.\nCLICCA QUI per info e iscrizioni alla prossima edizione d
 el CORSO ONLINE INTENSIVO SULLA SCHEMA THERAPY – EDIZIONE APRILE-GIUGNO 
 2025\nPER ISCRIZIONI ENTRO IL 1° DICEMBRE 2024:➢ € 1.000\,00 + iva (
 € 1.220\,00) quota agevolataPer iscriversi è necessario compilare la sc
 heda online e versare contestualmente l’ acconto di € 500\,00 iva incl
 usa.Il rimanente della quota di partecipazione può essere suddivisa in 3 
 rate secondo il seguente calendario (le quote riportate di seguito sono co
 n iva inclusa):1° rata: € 240 entro il 10 gennaio 20252° rata: € 240
  entro il 10 febbraio 20253° rata: € 240 entro il&nbsp\;10 marzo 2025\n
 \nPER ISCRIZIONI SUCCESSIVE AL 1° DICEMBRE 2024:➢ € 1.229\,50 + iva (
 € 1.500\,00) quota standardPer iscriversi è necessario compilare la sch
 eda online e versare contestualmente l’ acconto di € 600\,00 iva inclu
 sa.Il rimanente della quota di partecipazione può essere suddivisa in 3 r
 ate secondo il seguente calendario (le quote riportate di seguito sono con
  iva inclusa):1° rata: € 300 entro il 10 gennaio 20252° rata: € 300 
 entro il 10 febbraio 20253° rata: € 300 entro il&nbsp\;10 marzo 2025\n\
 nI versamenti devono avvenire tramite bonifico bancario sul conto intestat
 o a:ITALIAN ACADEMY OF SCHEMA THERAPY srlIBAN IT20J0306903213100000016184B
 ANCA INTESA SAN PAOLOcausale “Schema Therapy GENNAIO 2025”\n\nIl pagam
 ento delle Supervisioni non è incluso nella quota di iscrizione.In caso d
 i rinuncia al corso non è prevista la restituzione della quota di parteci
 pazione.\n\nPer info: corsi@apc.it – Tel e WhatsApp 3473566781\n\nSegret
 eria Organizzativa e Provider ECM: \n\nSPC s.r.l. – Provider ECM Standar
 d ID 3958 – Viale Castro Pretorio\, 116 – Roma\n\nBROCHURE
ATTACH;FMTTYPE=image/jpeg:https://apc.it/wp-content/uploads/2024/07/Traini
 ng-Schema-Therapy-I-edizione-2025-gen-mar-2025.png
CATEGORIES:Corsi ecm,Corsi Schema Therapy
END:VEVENT
END:VCALENDAR