BEGIN:VCALENDAR
VERSION:2.0
PRODID:-//wp-events-plugin.com//7.2.3.1//EN
BEGIN:VEVENT
UID:418@apc.it
DTSTART:20250404T090000Z
DTEND:20250621T173000Z
DTSTAMP:20250303T100449Z
URL:https://apc.it/lista-eventi/corso-online-intensivo-sulla-schema-therap
 y-aprile-giugno-2025/
SUMMARY:CORSO ONLINE INTENSIVO SULLA SCHEMA THERAPY – APRILE-GIUGNO 2025
DESCRIPTION:CORSO ONLINE INTENSIVO SULLA SCHEMA THERAPY \nII° EDIZIONE 202
 5 - APRILE-GIUGNO 2025\nTRAINING ACCREDITATO DALLA INTERNATIONAL SOCIETY O
 F SCHEMA THERAPY (ISST)PER DIVENTARE TERAPEUTI CERTIFICATI IN SCHEMA THERA
 PY\n &nbsp\; &nbsp\; &nbsp\;&nbsp\; \n\n 	WS1 – 4-5 aprile 2025\n\n 	WS2
  – 9-10 maggio 2025\n\n 	WS3 – 23-24 maggio 2025\n\n 	WS4 – 20-21 gi
 ugno 2025\norario 9.00-17.30\n\nDocenti: Dr.sse Alessandra Mancini\, Barba
 ra Basile\, Katia Tenore\, Olga Ines Luppino\n\nQUOTA AGEVOLATA PER ISCRIZ
 IONI ENTRO IL 10 MARZO 2025!\n\nPRESENTAZIONE\nLa&nbsp\;SCHEMA&nbsp\;THERA
 PY&nbsp\;(ST)&nbsp\;é&nbsp\;uno&nbsp\;sviluppo&nbsp\;innovativo&nbsp\;del
 la&nbsp\;psicoterapia&nbsp\;cognitivo comportamentale&nbsp\;altamente&nbsp
 \;efficace&nbsp\;nel&nbsp\;trattamento&nbsp\;dei&nbsp\;disturbi&nbsp\;di&n
 bsp\;personalità&nbsp\;e&nbsp\;di&nbsp\;disturbi psicologici&nbsp\;cronic
 i&nbsp\;o&nbsp\;difficili&nbsp\;da&nbsp\;trattare.\nEssa&nbsp\;integra\,&n
 bsp\;oltre&nbsp\;la&nbsp\;CBT\,&nbsp\;diversi&nbsp\;approcci&nbsp\;psicote
 rapeutici&nbsp\;quali&nbsp\;la&nbsp\;Gestalt\,&nbsp\;l’analisi&nbsp\;tra
 nsazionale\, l’ipnoterapia&nbsp\;e&nbsp\;concetti&nbsp\;della&nbsp\;teor
 ia&nbsp\;dell’attaccamento&nbsp\;e&nbsp\;delle&nbsp\;scuole&nbsp\;psicod
 inamiche\,&nbsp\;offrendo un&nbsp\;concetto&nbsp\;esplicativo&nbsp\;molto&
 nbsp\;chiaro&nbsp\;e&nbsp\;in&nbsp\;sé&nbsp\;consistente&nbsp\;coerente&n
 bsp\;e&nbsp\;un&nbsp\;approccio&nbsp\;di&nbsp\;trattamento facilmente&nbsp
 \;applicabile.\nLa&nbsp\;Schema&nbsp\;Therapy&nbsp\;mira&nbsp\;a&nbsp\;ind
 ividuare&nbsp\;con&nbsp\;il&nbsp\;Paziente&nbsp\;i&nbsp\;propri&nbsp\;gli&
 nbsp\;schemi&nbsp\;e&nbsp\;le&nbsp\;modalità disfunzionali&nbsp\;e&nbsp\;
 le&nbsp\;loro&nbsp\;origini&nbsp\;nell’infanzia\,&nbsp\;a&nbsp\;riconosc
 erne&nbsp\;gli&nbsp\;effetti&nbsp\;nella&nbsp\;vita&nbsp\;e&nbsp\;a&nbsp\;
 trovare attivamente&nbsp\;modalità&nbsp\;funzionali&nbsp\;per&nbsp\;smant
 ellarli&nbsp\;giungere&nbsp\;ad&nbsp\;un&nbsp\;cambiamento. Per&nbsp\;fare
 &nbsp\;questo&nbsp\;a&nbsp\;tal&nbsp\;fine&nbsp\;utilizza&nbsp\;tecniche&n
 bsp\;cognitive\,&nbsp\;comportamentali&nbsp\;e&nbsp\;di&nbsp\;attivazione&
 nbsp\;e motiva adattate&nbsp\;e&nbsp\;calibrate&nbsp\;alla&nbsp\;ST&nbsp\;
 o&nbsp\;create&nbsp\;proprio&nbsp\;per&nbsp\;la&nbsp\;ST.\nUn&nbsp\;ruolo&
 nbsp\;centrale&nbsp\;nel&nbsp\;processo&nbsp\;terapeutico&nbsp\;è&nbsp\;d
 a&nbsp\;individuare&nbsp\;nella&nbsp\;particolare&nbsp\;impostazione&nbsp\
 ;della relazione&nbsp\;terapeutica&nbsp\;che&nbsp\;punta\,&nbsp\;in&nbsp\;
 modo&nbsp\;esplicito&nbsp\;e&nbsp\;nei&nbsp\;limiti&nbsp\;del&nbsp\;possib
 ile\,&nbsp\;a&nbsp\;soddisfare&nbsp\;i&nbsp\;bisogni del&nbsp\;Paziente\,&
 nbsp\;non&nbsp\;colti&nbsp\;soddisfatti&nbsp\;nell&nbsp\;́infanzia\,&nbsp
 \;in&nbsp\;termini&nbsp\;di&nbsp\;“limited&nbsp\;reparenting”\n\nIL TR
 AINING\n Sono previste 60 ore di formazione teorico- pratica \, distribuit
 i in 4 workshop di 15 ore ciascuno.\nI moduli sono a carattere altamente p
 ratico ed esperienziale con numerosi esempi dal vivo\, video e role – pl
 ay.\n Il numero dei partecipanti è limitato ad un massimo di 20.\n Corso 
 altamente esperienziale\, è richiesta la partecipazione attiva di tutti i
  partecipanti.\n I 4 MODULI RAPPRESENTANO LE BASI TEORICHE NECESSARIE (MIN
  60 ORE) PER DIVENTARE TERAPEUTA ED EVENTUALMENTE. TRAINER E SUPERVISORE I
 N SCHEMA THERAPY RICONOSCI UTO DALL’INTERNATIONAL SOCIETY OF SCHEMA THER
 APY (ISST).\nA conclusione della formazione in aula\, chi intendesse conse
 guire il riconoscimento internazionale di terapeuta per la Schema Therapy\
 , come da indicazione della International Society of Schema Therapy è ten
 uto a svolgere 20 ore di supervisione con un trainer e supervisore riconos
 ciuto dalla ISST\, un minimo di 5 ore di valutazione dei video\, di cui 4 
 da un supervisore interno e 1 da un supervisore indipendente.\nMaggiori in
 formazioni alla&nbsp\;pagina:  https://schematherapysociety.org/page–196
 53\nIndicazioni per il conseguimento del titolo di terapeuta certificato d
 alla ISST per la schema therapy\n\n 	La supervisione può avere cadenza qu
 indicinale (consigliata per concludere la formazione entro un anno dall’
 inizio) o\, in accordo con il supervisore\, può arrivare ad una cadenza m
 assimo mensile\;\n 	Ogni corsista deve produrre 1 o più audio/video relat
 ivi a sedute terapeutiche con pazienti in cui utilizza la Schema Therapy\;
 \n 	Ogni corsista è tenuto alla trascrizione di 1 video/audio da far visi
 onare ad un supervisore esterno.\n\n&nbsp\;\n\nREGOLAMENTO\n\n\n 	La frequ
 enza a tutte le giornate del corso è obbligatoria\, con telecamera accesa
  e partecipazione attiva con particolare riferimento alle esercitazioni.\n
  	Ai fini della Certificazione Internazionale ISST\, sono ammesse al massi
 mo n° 2 ore di assenza per ciascun Workshop. In caso di necessità partic
 olari scrivere a corsi@apc.it\n 	Ai fini dell’assegnazione dei crediti E
 CM è consentito il 10% di assenza sul totale delle ore del corso (60 ore)
 .\n\n&nbsp\;\n\nProgramma WS 1\nINTRODUZIONE ALLA SCHEMA THERAPY (ST)vener
 dì 4 - sabato 5 aprile 2025&nbsp\; orario 09.00-17.30DOCENTE: DR.SSA ALES
 SANDRA MANCINIObiettivi formativi:Presentazione della base teorica della S
 chema Therapy ed introduzione alle strategie relazionali\;Introduzione al 
 modello degli Schemi e dei Mode e riconoscimento delle loro manifestazioni
  clinicheConcettualizzazione del caso secondo il modello riconosciuto dall
 a Società Internazionale di Schema Therapy.Programma:• Teoria di base :
  origine ed efficacia della ST\; Schemi Coping Styles e Modes (role play o
  video)\; ruolo dei bisogni emotivi primari nella Teoria degli Schemi\;•
  L’ Assessment : raccolta della storia di vita\; I questionari (YSQ\; YP
 I)\; Imagery del posto sicuro e Imagery diagnostico\;• Concettualizzazio
 ne del caso : introduzione alla formulazione del caso secondo il modello d
 ella ST (criteri ISST) e concettualizzazione di un proprio caso clinico\;
 • Strategie terapeutiche della ST: introduzione alle tecniche cognitive\
 ; esperienziali\; relazionali e comportamentali.\n\nProgramma WS 2\nIL MOD
 ELLO DEI MODE E LE TECNICHE IMMAGINATIVE PER IL CAMBIAMENTOvenerdì 9 - sa
 bato 10 maggio 2025 orario 09.00-17.30DOCENTE: DR.SSA KATIA TENOREObiettiv
 i formativi:Fornire le basi teoriche ed effettuare esercitazioni pratiche 
 sui mode e sulle diverse tecniche immaginative durante le diverse fasi del
  trattamento. Aumentare la sicurezza e la competenza nello scegliere tra l
 e diverse tecniche immaginative e nel metterle in pratica.Programma:Tecnic
 he immaginative (con live demo\, esercitazioni e video)• Basi teoriche e
 d efficacia delle tecniche immaginative▪ Imagery del posto sicuro▪ Ima
 gery diagnostico▪ Imagery rescripring▪ Imagery rescripting fine tuning
 ▪ Pratica esperienziale in immaginazione\n\nProgramma WS 3\nIL LAVORO CO
 N GLI SCHEMI DEL TERAPEUTA – STRUMENTI COGNITIVI E COMPORTAMENTALIvenerd
 ì 23 - sabato 24 maggio 2025&nbsp\; orario 09.00-17.30DOCENTE: DR.SSA OLG
 A INES LUPPINOObiettivi formativi:• Imparare a impostare la relazione te
 rapeutica in termini di “Limited Reparenting“\;• Aiutare il terapeut
 a a identificare i propri schemi e mode\, a collegare le condizioni attiva
 nti con le proprie risposte emotive allo scopo di mantenere una funzionale
  posizione terapeutica• Programma:• Le tecniche relazionali: Limited R
 eparenting e Confronto Empatico• Dimostrazioni pratiche e role play• I
 mparare a porre regole e limiti al paziente• Il cambiamento cognitivo e 
 comportamentale• Tecniche cognitive e di pattern breaking• Pratica esp
 erienziale in immaginazione per lavorare sui propri schemi• Historical R
 ole Play\n\nProgramma WS 4\nSCHEMA MODE WORK CON I DISTURBI DI PERSONALIT
 Àvenerdì 20 – sabato 21 giugno 2025&nbsp\; orario 09.00-17.30DOCENTE: 
 DR.SSA BARBARA BASILEObiettivi formativi:Aumentare le competenze di tratta
 mento già acquisite specificatamente al disturbo borderline e narcisistic
 o di personalità e focalizzare sulla fase finale della terapia potenziand
 o un funzionamento più sano e funzionale.Particolare attenzione viene ded
 icata anche alla tecnica delle sedie.ProgrammaApprofondimento del Mode Wor
 k (formulazione del caso\, live demo e chair work) con:• Disturbo Border
 line di Personalità• Disturbo Narcisistico di Personalità• Potenziam
 ento del mode dell’Adulto sano• Accenno ai disturbi di Personalità de
 l Cluster C\n\nMODALITÀ DI SVOLGIMENTO:Il corso si svolgerà in modalità
  online attraverso la piattaforma ZOOM.Nella conferma di iscrizione riceve
 rete tutte le indicazioni e le istruzioni di partecipazione\n\nIL CORSO È
  RIVOLTO A:- Specializzandi in Psicoterapia che nel 2025 frequentano il IV
  anno\;- Psicologi abilitati alla Psicoterapia\;- Medici Psicoterapeuti\;-
  Medici Psichiatri\;- Medici Neuropsichiatri Infantili.Il numero dei parte
 cipanti è limitato ad un massimo di 20.\n\nCorso altamente esperienziale\
 , è richiesta la partecipazione attiva di tutti i partecipanti.\n\nÈ PRE
 VISTO L’ACCREDITAMENTO DI 50 CREDITI ECM\n\nATTESTAZIONIAl termine del c
 iclo intensivo (WS1\, WS2\, WS3\, WS4) sarà rilasciato un attestato ricon
 osciuto dalla ISST (International Society of Schema Therapy)\, relativo al
 la parte teorica (60 ore)\, necessaria nel percorso formativo per diventar
 e supervisore e docente /trainer in schema therapy.\n\nQUOTA AGEVOLATA PER
  ISCRIZIONI ENTRO IL 10 MARZO 2025!\n\nPER ISCRIZIONI ENTRO IL 10 MARZO 20
 25:➢ € 1.000\,00 + iva (€ 1.220\,00) quota agevolataPer iscriversi 
 è necessario compilare la scheda online e versare contestualmente l’ ac
 conto di € 500\,00 iva inclusa.Il rimanente della quota di partecipazion
 e può essere suddivisa in 3 rate secondo il seguente calendario (le quote
  riportate di seguito sono con iva inclusa):1° rata: € 240 entro il 10 
 aprile 20252° rata: € 240 entro il 10 maggio 20253° rata: € 240 entr
 o il&nbsp\;10 giugno 2025\n\nPER ISCRIZIONI SUCCESSIVE AL 10 MARZO 2025:
 ➢ € 1.229\,50 + iva (€ 1.500\,00) quota standardPer iscriversi è ne
 cessario compilare la scheda online e versare contestualmente l’ acconto
  di € 600\,00 iva inclusa.Il rimanente della quota di partecipazione pu
 ò essere suddivisa in 3 rate secondo il seguente calendario (le quote rip
 ortate di seguito sono con iva inclusa):1° rata: € 300 entro il 10 apri
 le 20252° rata: € 300 entro il 10 maggio 20253° rata: € 300 entro il
 &nbsp\;10 giugno 2025\n\nI versamenti devono avvenire tramite bonifico ban
 cario sul conto intestato a:ITALIAN ACADEMY OF SCHEMA THERAPY srlIBAN IT20
 J0306903213100000016184BANCA INTESA SAN PAOLOcausale “Schema Therapy APR
 ILE 2025”\n\nIl pagamento delle Supervisioni non è incluso nella quota 
 di iscrizione.\n\nIn caso di rinuncia al corso non è prevista la restituz
 ione della quota di partecipazione.\n\n&nbsp\;\n\nPer info: corsi@apc.it 
 – Tel e WhatsApp 3473566781\n\nSegreteria Organizzativa e Provider ECM: 
 \n\nSPC s.r.l. – Provider ECM Standard ID 3958 – Viale Castro Pretorio
 \, 116 – Roma\n\nBROCHURE
ATTACH;FMTTYPE=image/jpeg:https://apc.it/wp-content/uploads/2024/11/Traini
 ng-Schema-Therapy-II-edizione-2025-aprile-giugno-2025.png
CATEGORIES:Corsi a pagamento,Corsi ecm,Corsi Schema Therapy
END:VEVENT
END:VCALENDAR