BEGIN:VCALENDAR
VERSION:2.0
PRODID:-//wp-events-plugin.com//7.2.3.1//EN
BEGIN:VEVENT
UID:395@apc.it
DTSTART:20241116T100000Z
DTEND:20250405T180000Z
DTSTAMP:20240710T085504Z
URL:https://apc.it/lista-eventi/corso-di-alta-formazione-in-terapia-metaco
 gnitiva-interpersonale/
SUMMARY:Corso di alta formazione in terapia metacognitiva-interpersonale
DESCRIPTION:CORSO ALTA FORMAZIONE IN TERAPIA METACOGNITIVA-INTERPERSONALE 
 – Anno 2024-2025\nDal 16 novembre 2024 al 5 aprile 2025\nIL CORSO È RIC
 ONOSCIUTO UFFICIALMENTE DALLA MITHS (METACOGNITIVE INTERPERSONAL THERAPY S
 OCIETY)\nVisita la pagina del corso sul sito della MITHS METACOGNITIVE INT
 ERPERSONAL THERAPY SOCIETY\nPRESENTAZIONE\nLa Terapia Metacognitiva Interp
 ersonale (TMI) è un modello di intervento psicoterapico scientificamente 
 fondato\, sviluppato presso il Terzo Centro di Psicoterapia Cognitiva di R
 oma (Carcione\, Nicolò &amp\; Semerari\, 2016). Gli studi più recenti ev
 idenziano come un fattore generale sottostante alla psicopatologia sia la 
 difficoltà nella metacognizione\, intesa come la capacità di riflettere 
 e ragionare sui propri e altrui stati mentali (Semerari et al.\, 2014). Ne
 l 2019 un primo studio ha evidenziato che un aumento della metacognizione 
 predice una diminuzione della sofferenza\, un miglioramento\ndel funzionam
 ento generale e delle relazioni interpersonali (Carcione et al.\, 2019). U
 no studio pubblicato nel 2023 ha evidenziato l’efficacia della TMI per i
 l trattamento del Disturbo Borderline di Personalità\, mostrando gli effe
 tti non solo clinici\, ma anche sul funzionamento cerebrale in termini di 
 riduzione dell’attività dell’amigdala e incremento della connettivit
 à strutturale cerebrale\, che correla significativamente con l’aumento 
 della metacognizione (Rossi et al.\, 2023).\nIl training fornisce gli stru
 menti tecnici e relazionali per intervenire sui casi complessi e sui distu
 rbi di personalità. \n\nAl completamento dei moduli formativi i partecipa
 nti saranno in grado di effettuare un assessment metacognitivo\, di utiliz
 zare i principali strumenti per la valutazione della metacognizione\, di f
 ormulare un caso\, di effettuare interventi specifici\nper il migliorament
 o del funzionamento metacognitivo\, di gestire situazioni critiche nel cor
 so delle sedute\, di organizzare presso i loro servizi o studi professiona
 li servizi per i disturbi di personalità. Tali competenze verranno ricono
 sciute e certificate.\n\nPer la frequentazione dell’intero corso verrà 
 rilasciato attestato come terapeuta riconosciuto MITHS (ed è possibile is
 criversi alla MITHS come Socio Ordinario). Per chi frequenterà i singoli 
 moduli\, verrà rilasciato specifico attestato.\n\nA CHI È RIVOLTO\nIl tr
 aining è rivolto a psichiatri\, neuropsichiatri infantili\, psicologi in 
 formazione (almeno al III anno di specializzazione) e psicoterapeuti\n\nCO
 STI E MODALITÀ DI ISCRIZIONE\nQuota di iscrizione al Training in modalit
 à webinar in diretta per ognuno dei 6 moduli:\n€ 220\,00 + IVA (tot. 
 € 268\,40) a modulo\, oppure € 1250\,00 + IVA (tot. € 1.525\,00) in 
 totale per i sei moduli.\n\nÈ possibile accedere al II\, al III\, al IV\,
  al V ed al VI modulo solo se si è frequentato il primo o seminari equiva
 lenti.\n\nPer iscriversi è necessario compilare la scheda e versare la qu
 ota di iscrizione anticipatamente.\n\nSi prega di inviare la scheda di isc
 rizione unitamente alla contabile del pagamento all’indirizzo info@miths
 .org\n\nIn caso di rinuncia durante lo svolgimento del training\, sarà co
 munque dovuta l’intera quota del Corso.\n\nDOCENTI\nPROF. ANTONIO SEMERA
 RI\nPsichiatra\, Psicoterapeuta\, Fondatore e Presidente emerito e Respons
 abile Scientifico Gruppo di Ricerca del III Centro di Psicoterapia Cogniti
 va di Roma.\nPresidente Metacognitive Interpersonal Therapy Society (MITHS
 )\n\nDR.SSA LAURA MARIA CONTI\nPsicologa Psicoterapeuta\, Terapeuta EMDR\,
  Didatta SITCC\, Didatta Scuole di Specializzazione SPC e APC\, Didatta Sc
 uola di Specializzazione Centro Terapia Cognitiva di Como\n\nDR. GIUSEPPE 
 NICOLÒ\nMedico Psichiatra\, Psicoterapeuta\, Fondatore III Centro di Psic
 oterapia Cognitiva\,\nDirettore Dipartimento di Salute Mentale ASL Roma 5\
 , Direttore SPDC Colleferro\,\nProfessore a contratto Psichiatria Universi
 tà LUMSA Roma e Scuola Specializzazione Psichiatria Università la Sapien
 za Roma\, Didatta SICC\, SPC\, SITCC. Consigliere MITHS\n\nPROF.SSA LIVIA 
 COLLE\nPsicologa\, Psicoterapeuta Cognitivo-Comportamentale\, Professore A
 ssociato Dipartimento di Psicologia Università degli Studi di Torino\n\nD
 .SSA DONATELLA FIORE\nSpecialista in Psichiatria\, Psicoterapeuta Cognitiv
 o-Comportamentale\, Didatta\nSICC\, APC/SPC\, Responsabile DBT del III Cen
 tro\, Didatta e Vice-Presidente SIDBT\n\nPROF. ANTONINO CARCIONE\nFondator
 e e Direttore Scientifico del III Centro di Psicoterapia Cognitiva di Roma
 \,\nProfessore Associato Università “G. Marconi” Roma e Professore a 
 contratto Università de L’Aquila\, Past President SITCC\, Didatta SICC\
 , SPC\, SITCC. Segretario e Tesoriere MITHS\n\nSCARICA LA BROCHURE DEL COR
 SO\n\nSCARICA IL MODULO DI ISCRIZIONE\n\n&nbsp\;
ATTACH;FMTTYPE=image/jpeg:https://apc.it/wp-content/uploads/2024/07/preset
 azione-terapia-metacognitiva-nov-2024-apr-2025.png
CATEGORIES:Corsi a pagamento,Corsi non ecm
END:VEVENT
END:VCALENDAR