BEGIN:VCALENDAR
VERSION:2.0
PRODID:-//wp-events-plugin.com//7.2.3.1//EN
BEGIN:VEVENT
UID:363@apc.it
DTSTART:20240126T100000Z
DTEND:20240623T180000Z
DTSTAMP:20231213T075123Z
URL:https://apc.it/lista-eventi/corso-alta-formazione-in-terapia-metacogni
 tiva-interpersonale-anno-2024/
SUMMARY:CORSO ALTA FORMAZIONE IN TERAPIA METACOGNITIVA-INTERPERSONALE – A
 nno 2024
DESCRIPTION: Corso Online di Alta Formazione in \nTERAPIA METACOGNITIVA-INT
 ERPERSONALE\n\nIL CORSO È RICONOSCIUTO UFFICIALMENTE DALLA MITHS METACOGN
 ITIVE INTERPERSONAL THERAPY SOCIETY\nGENNAIO-GIUGNO 2024\n&nbsp\;\n\nPer i
 scriverti scarica e compila il seguente modulo:\n\nModulo iscrizione CORSO
  TMI 2024\n\n&nbsp\;\n\n\n\n&nbsp\;\n\n\n\n\n\n\n\n&nbsp\;\n\n&nbsp\;\n\n&
 nbsp\;\n\n&nbsp\;\n\n&nbsp\;\nPER INFO E ISCRIZIONI: info@miths.org\n&nbsp
 \;\n\nPer iscriverti scarica e compila il seguente modulo:\n\nModulo iscri
 zione CORSO TMI 2024
ATTACH;FMTTYPE=image/jpeg:https://apc.it/wp-content/uploads/2023/12/Cattur
 a-1.jpg
CATEGORIES:Corsi a pagamento
END:VEVENT
END:VCALENDAR