BEGIN:VCALENDAR
VERSION:2.0
PRODID:-//wp-events-plugin.com//7.2.3.1//EN
BEGIN:VEVENT
UID:362@apc.it
DTSTART:20241213T090000Z
DTEND:20241214T180000Z
DTSTAMP:20241114T100312Z
URL:https://apc.it/lista-eventi/coping-power-program/
SUMMARY:COPING POWER PROGRAM
DESCRIPTION:Corso ECM Online\n\nCOPING POWER PROGRAM \nUn protocollo di int
 ervento sui disturbi da comportamento dirompente\n\n13-14 dicembre 2024\no
 re 09.00-18.00\n&nbsp\;\n Dott. Pietro Muratori \nDott. Carlo Buonanno\n\n
 &nbsp\;\nAl termine del training verrà rilasciato un attestato che abilit
 a alla conduzione dei gruppi per bambini e genitori secondo il modello Cop
 ing Power.\nQUOTA AGEVOLATA ENTRO IL 21 NOVEMBRE!\nIl Corso si terrà ONLI
 NE su piattaforma ZOOM in diretta\n24 crediti ECM in FAD Sincrona: è poss
 ibile partecipare solamente in diretta\n\nInfo: www.apc.it - corsi@apc.it 
 - Tel e Whatsapp 3473566781\n\n\n\n\n\n\nCORSO RIVOLTO A:\n\nSpecializzand
 i in Psicoterapia\, Psicologi abilitati alla Psicoterapia\, Medici Psicote
 rapeuti\, Medici Psichiatri e Medici Neuropsichiatri Infantili.\nCREDITI E
 CM:\n\n\nÈ previsto l’accreditamento di 24 crediti ECM in FAD SINCRONA\
 n\nMODALITA' DI PARTECIPAZIONE:\nIl corso si svolgerà in modalità online
  su piattaforma ZOOM. Sarà possibile partecipare al corso esclusivamente 
 in diretta.\nQUOTE E MODALITÀ DI ISCRIZIONE\n\n 	€ 225\,00 +iva (totale
  € 274\,50) Quota agevolata per iscrizioni entro il 21/11/2024\;\n 	€ 
 275\,00 +iva (totale € 335\,50) Quota standard per iscrizioni successive
  al 21/11/2024.\n\n&nbsp\;\n\nIN CASO DI RINUNCIA NON È PREVISTO IL RIMBO
 RSO DELLA QUOTA DI PARTECIPAZIONE\n\nÈ possibile pagare la quota di iscri
 zione in un'unica soluzione con Bonifico Bancario\, Carta di Credito o Pay
 Pal.\n\nCLICCA QUI PER ISCRIVERTI AL CORSO\n\nN.B. Le iscrizioni vengono p
 rese sulla nostra nuova piattaforma di erogazione corsi (https://eventi.ap
 c.it/)\, se non sei ancora registrato alla nuova piattaforma dovrai regist
 rarti con i tuoi dati e poi procedere all’iscrizione e al pagamento del 
 corso.\n\nPer info: corsi@apc.it – Tel e Whatsapp: 3473566781\nSegreteri
 a Organizzativa e Provider ECM: \nSPC s.r.l. – Provider ECM Standard ID 
 3958 - Viale Castro Pretorio\, 116 - Roma\nBROCHURE
ATTACH;FMTTYPE=image/jpeg:https://apc.it/wp-content/uploads/2023/11/COPING
 -POWER-PROGRAM-2024.png
CATEGORIES:Corsi a pagamento,Corsi ecm
END:VEVENT
END:VCALENDAR