BEGIN:VCALENDAR
VERSION:2.0
PRODID:-//wp-events-plugin.com//7.2.3.1//EN
BEGIN:VEVENT
UID:411@apc.it
DTSTART:20250124T143000Z
DTEND:20250124T183000Z
DTSTAMP:20241006T092938Z
URL:https://apc.it/lista-eventi/convegno-dinverno-per-il-cognitivismo-clin
 ico-i-paradossi-della-psicopatologia/
SUMMARY:Convegno d’Inverno per il Cognitivismo Clinico - "I PARADOSSI DEL
 LA PSICOPATOLOGIA"
DESCRIPTION:Convegno d’Inverno per il Cognitivismo Clinico\nin memoria di
  Gianni Liotti\, Roberto Lorenzini e Giovanni Fassone \n\nI PARADOSSI DELL
 A PSICOPATOLOGIA\nErrare humanum est\, perseverare autem insanum\nvenerdì
  24 gennaio 2025\norario 14.30-18.30\nIl convegno si terrà in modalità O
 NLINE su piattaforma Zoom\nPARTECIPAZIONE GRATUITA - PER ISCRIVERTI CLICCA
  QUI\nPRESENTAZIONE\nIl Convegno quest’anno affronterà un problema cent
 rale per la comprensione di una larga parte della psicopatologia: perché 
 e come la sofferenza psicopatologica persiste e si aggrava nonostante il p
 aziente abbia la possibilità di cambiare e nonostante lui stesso cerchi d
 i cambiare?\nRELATORI\n\n 	Dott.ssa Vittoria Zaccari\n\n 	Psicologa\, Psic
 oterapeuta. Svolge attività clinica\, didattica e di ricerca nelle Scuole
  di Psicoterapia Cognitiva (Associazione di Psicologia Cognitiva\, apc\; S
 cuola di Psicoterapia Cognitiva\, spc) di Roma. Assegnista di ricerca pres
 so l’Università degli Studi della Campania Luigi Vanvitelli. Professore
  a contratto presso l’Università Guglielmo Marconi di Roma per l’inse
 gnamento di Psicologia dello Sviluppo\n\n\n 	Prof. Francesco Mancini\n\n 	
 Neuropsichiatra Infantile e Psicoterapeuta. Direttore\, didatta e docente 
 del Network delle Scuole di Psicoterapia Cognitiva (Associazione di Psicol
 ogia Cognitiva\, apc\; Scuola di Psicoterapia Cognitiva\, spc). Professore
  straordinario all’Università Guglielmo Marconi di Roma per l’insegna
 mento di Psicologia Clinica\n\n\n 	Dott. Maurizio Brasini\n\n 	Psicologo\,
  Psicoterapeuta. Svolge attività clinica\, didattica e di ricerca nelle S
 cuole di Psicoterapia Cognitiva Associazione di Psicologia Cognitiva (apc)
  e Scuola di Psicoterapia Cognitiva (spc) di Roma\n\n\n 	Prof. Mauro Giaco
 mantonio \n\n 	\nProfessore Associato in Psicologia Sociale\, presso il Di
 partimento di Psicologia dei Processi di Sviluppo e Socializzazione dell
 ’Università Sapienza di Roma. Psicologo\, Psicoterapeuta. Svolge attivi
 tà clinica e di ricerca nelle Scuole di Psicoterapia Cognitiva (Associazi
 one di Psicologia Cognitiva\, apc\; Scuola di Psicoterapia Cognitiva\, spc
 ) di Roma\n\n\n\n 	Prof. Antonio Semerari\n\n 	Psichiatra e Psicoterapeuta
 . Fondatore e Presidente emerito del III Centro di Psicoterapia Cognitiva 
 di Roma. Didatta delle Scuole di Specializzazione in Psicoterapia Cognitiv
 a Associazione di Psicologia Cognitiva (APC) e Scuola di Psicoterapia Cogn
 itiva (SPC). Presidente Metacognitive Interpersonal Therapy Society (MITHS
 ).\n\n\n\n&nbsp\;\n\nPROGRAMMA\n\nVenerdì 24 gennaio 2025 - ore 14.30-18.
 30\nChair: Vittoria Zaccari\n\n\n 	14.30-14.45 Introduzione - Vittoria Zac
 cari\n 	14.45-15.30 Il paradosso nevrotico - Francesco Mancini\n 	15.30-16
 .15 Il gioco delle parti: contro il partizionismo - Maurizio Brasini\n 	16
 .15-16.30 - PAUSA\n 	16.30-17.15 Il bisogno di Mondo Giusto e l’Ordine N
 aturale - Mauro Giacomantonio\n 	17.15-18.00 I cicli interpersonali - Anto
 nio Semerari\n 	18.00-18.20 - TAVOLA ROTONDA\n 	18.20-18.30 - Conclusioni\
 n\nIl Convegno si terrà ONLINE in modalità Webinar su piattaforma ZOOM\n
 venerdì 24 gennaio 2025 dalle ore 14.30 alle ore 18.30\n\n\nConvegno rivo
 lto a Studenti in Psicologia e Medicina\, Laureandi\, Neolaureati\, Psicol
 ogi\, Medici\, Psicoterapeuti\, Psichiatri\, Specializzandi.\n\nSarà rila
 sciato attestato di partecipazione.\nPARTECIPAZIONE GRATUITA PREVIA ISCRIZ
 IONE\n\nPER ISCRIVERTI CLICCA QUI \nBROCHURE\n\nInfo: corsi@apc.it
ATTACH;FMTTYPE=image/jpeg:https://apc.it/wp-content/uploads/2024/10/INVERN
 O-2025.png
CATEGORIES:Convegni,Corsi Gratuiti,Simposi
END:VEVENT
END:VCALENDAR