BEGIN:VCALENDAR
VERSION:2.0
PRODID:-//wp-events-plugin.com//7.2.3.1//EN
BEGIN:VEVENT
UID:373@apc.it
DTSTART:20240323T090000Z
DTEND:20240323T133000Z
DTSTAMP:20240307T103322Z
URL:https://apc.it/lista-eventi/baldini-day-2024-il-conflitto-intrapsichic
 o/
SUMMARY:BALDINI DAY 2024 "Il conflitto intrapsichico"
DESCRIPTION:Le Scuole di Psicoterapia Cognitiva SPC/APC di Verona\npresenta
 no il\n\nBALDINI DAY 2024\n“Il conflitto intrapsichico”\nSabato 23 mar
 zo 2024\nore 09.00 – 13.30\nIl Convegno si svolge con modalità mista:\n
 \n\n 	In presenza presso Camera di Commercio – Auditorium Domus Mercator
 um - Corso Porta Nuova\, 96 – Verona (capienza max 90 posti)\n 	ONLINE s
 u piattaforma Zoom\n\nPARTECIPAZIONE GRATUITA previa iscrizione\nN.B. DEVE
  COMPILARE IL MODULO SOTTOSTANTE SOLAMENTE CHI VUOLE PARTECIPARE IN PRESEN
 ZA A VERONA\nRELATORI: Antonino Carcione\, Alessandra Mancini\, Antonella 
 Rainone\nCHAIR: Dr.ssa Elena Prunetti\nMODERATORE: Prof. Francesco Mancini
 \nPROGRAMMA\n\nsabato 23 marzo 2024 - ore 09.00-13.30\n\n 	ore 09.00-09.30
  Apertura lavori e introduzione\n 	ore 09.30-10.15&nbsp\; Quando perseguir
 e normali scopi evolutivi diventa pericoloso: il conflitto psichico nella 
 Depressione Altruistica– Antonella Rainone\n 	ore 10.15-11.00 &nbsp\; Af
 frontare i conflitti intrapsichici con la Schema Therapy – Alessandra Ma
 ncini\n 	ore 11.00-11.15&nbsp\;&nbsp\; PAUSA\n 	ore 11.15-12.00 &nbsp\; Co
 nflitto intrapsichico\, metacognizione e libertà – Antonino Carcione\n\
 n 	ore 12.00-12.30 &nbsp\; Domande e discussione\n 	ore 12.30-13.20 &nbsp\
 ; Consegna Diplomi e giuramento\n 	ore 13.20-13.30 &nbsp\; Chiusura lavori
 \n\n&nbsp\;\nConvegno rivolto a Studenti in Psicologia e Medicina\, Laurea
 ndi\, Neolaureati\, Psicologi\, Medici\, Psicoterapeuti\, Psichiatri\, Spe
 cializzandi.\nSarà rilasciato attestato di partecipazione.\nPARTECIPAZION
 E GRATUITA previa iscrizione\n\nÈ possibile iscriversi gratuitamente per 
 partecipare in presenza oppure online\n\nMODALITÀ DI ISCRIZIONE\n\n 	Per 
 partecipare ONLINE CLICCA QUI (inserisci Nome\, Cognome ed email e ti verr
 à inviato automaticamente il link per la connessione)\;\n\n&nbsp\;\n\n 	P
 er partecipare IN PRESENZA (max 90 posti disponibili): compilare il modulo
  sottostante\n\n&nbsp\;\n\nINFO: corsi@apc.it - 3473566781\n\nBROCHURE\n\n
 N.B. DEVE COMPILARE IL MODULO SOTTOSTANTE SOLAMENTE CHI VUOLE PARTECIPARE 
 IN PRESENZA A VERONA
ATTACH;FMTTYPE=image/jpeg:https://apc.it/wp-content/uploads/2024/02/BALDIN
 I-DAY-2024-1.png
CATEGORIES:Convegni,Corsi Gratuiti,Simposi
END:VEVENT
END:VCALENDAR