BEGIN:VCALENDAR
VERSION:2.0
PRODID:-//wp-events-plugin.com//7.2.3.1//EN
BEGIN:VEVENT
UID:358@apc.it
DTSTART:20240517T090000Z
DTEND:20240518T180000Z
DTSTAMP:20240418T112433Z
URL:https://apc.it/lista-eventi/assertivita-e-training-assertivo-2/
SUMMARY:ASSERTIVITÀ E TRAINING ASSERTIVO
DESCRIPTION:Corso ECM Online\n\nASSERTIVITÀ E TRAINING ASSERTIVO \nConosce
 nze e competenze di base per costruire e condurre un training assertivo\n\
 n17-18 maggio 2024\nore 09.00-18.00\n&nbsp\;\n Dott.ssa Francesca Baggio \
 nDr.ssa Teresa Cosentino\n\nISCRIVITI ENTRO IL 30 APRILE E SFRUTTA LA QUOT
 A AGEVOLATA!\nIl Corso si terrà ONLINE su piattaforma ZOOM in diretta\n24
  crediti ECM in FAD Sincrona: è possibile partecipare solamente in dirett
 a\n\nInfo: www.apc.it - corsi@apc.it - Tel e Whatsapp 3473566781\n\n\n\n\n
 CORSO RIVOLTO A:\n\nSpecializzandi in Psicoterapia\, Psicologi abilitati a
 lla Psicoterapia\, Medici Psicoterapeuti\, Medici Psichiatri e Medici Neur
 opsichiatri Infantili.\nCREDITI ECM:\n\n\nÈ previsto l’accreditamento d
 i 24 crediti ECM in FAD SINCRONA\n\nMODALITA' DI PARTECIPAZIONE:\nIl corso
  si svolgerà in modalità online su piattaforma ZOOM. Sarà possibile par
 tecipare al corso esclusivamente in diretta.\nQUOTE E MODALITÀ DI ISCRIZI
 ONE\n\nISCRIVITI ENTRO IL 30 APRILE E SFRUTTA LA QUOTA AGEVOLATA!\n\n 	€
 &nbsp\;200\,00 +iva (totale € 244\,00) Quota agevolata per iscrizioni en
 tro il 30/04/2024\;\n 	€ 250\,00 +iva (totale € 305\,00) Quota standar
 d per iscrizioni successive al 30/04/2024.\n\n&nbsp\;\n\nIN CASO DI RINUNC
 IA NON È PREVISTO IL RIMBORSO DELLA QUOTA DI PARTECIPAZIONE\n\nÈ possibi
 le pagare la quota di iscrizione in un'unica soluzione con Bonifico Bancar
 io\, Carta di Credito o PayPal.\n\nCLICCA QUI PER ISCRIVERTI AL CORSO\n\nN
 .B. Le iscrizioni vengono prese sulla nostra nuova piattaforma di erogazio
 ne corsi (https://eventi.apc.it/)\, se non sei ancora registrato alla nuov
 a piattaforma dovrai registrarti con i tuoi dati e poi procedere all’isc
 rizione e al pagamento del corso.\n\nPer info: corsi@apc.it – Tel e What
 sapp: 3473566781\nSegreteria Organizzativa e Provider ECM: \nSPC s.r.l. 
 – Provider ECM Standard ID 3958 - Viale Castro Pretorio\, 116 - Roma\nBR
 OCHURE
ATTACH;FMTTYPE=image/jpeg:https://apc.it/wp-content/uploads/2023/11/ASSERT
 IVITA-2024.png
CATEGORIES:Corsi a pagamento,Corsi ecm
END:VEVENT
END:VCALENDAR