BEGIN:VCALENDAR
VERSION:2.0
PRODID:-//wp-events-plugin.com//7.2.3.1//EN
BEGIN:VEVENT
UID:398@apc.it
DTSTART:20260315T000000Z
DTEND:20261230T000000Z
DTSTAMP:20260217T134508Z
URL:https://apc.it/lista-eventi/asincrono-summit-internazionale-il-narcisi
 smo-patologico/
SUMMARY:ASINCRONO - Summit Internazionale - IL NARCISISMO PATOLOGICO
DESCRIPTION:CORSO ASINCRONO\n&nbsp\;\nSummit Internazionale\nIL NARCISISMO 
 PATOLOGICO \n&nbsp\;\nCorso in FAD Asincrona - 5 crediti ECM\nè possibile
  visionare i contenuti registrati\ned ottenere gli ECM entro il 30/12/2026
 \n&nbsp\;\n\nProf. Antonio Semerari\nProf.ssa Elsa Ronningstam\nProf. Aaro
 n Pincus\nProf.ssa Chiara De Panfilis\nProf. Antonino Carcione\n&nbsp\;\n5
  crediti ECM in FAD Asincrona\nè possibile partecipare in diretta oppure 
 visionare i contenuti in differita ed ottenere gli ECM entro il 30/12/2026
 \nInfo: www.apc.it - corsi@apc.it - Tel e Whatsapp 3473566781\n&nbsp\;\n\n
 PROGRAMMA\n\nIntroduzione - Antonino Carcione\n\nLa dinamica narcisistica 
 - Antonio Semerari\n\nStati narcisistici grandiosi e vulnerabili: Presenta
 zioni cliniche e ricerche empiriche - Aaron Pincus\n\nUn approccio al narc
 isismo patologico centrato sulle relazioni oggettuali - Chiara De Panfilis
 \n\nStrategie per incoraggiare e promuovere il cambiamento nel trattamento
  del narcisismo patologico - Elsa Ronningstam\n\nNarcisismo patologico e m
 etacognizione: la Terapia Metacognitiva Interpersonale (TMI) - Antonino Ca
 rcione\n\n&nbsp\;\n\nRELATORI\n\nANTONIO SEMERARI\n\n\nFondatore e Preside
 nte emerito del III Centro di Psicoterapia Cognitiva di Roma\, Specialista
  in psichiatria\, Psicoterapeuta\, Didatta delle Scuole di Specializzazion
 e in Psicoterapia Cognitiva Associazione di Psicologia Cognitiva (APC) e S
 cuola di Psicoterapia Cognitiva (SPC) e della SITCC\, Past President della
  sezione italiana della Society for Psychotherapy Research (SPR-Italia)\, 
 Responsabile Scientifico Gruppo di Ricerca III Centro di Psicoterapia Cogn
 itiva\n\nAbilitazione Scientifica Nazionale per l’accesso alla fascia di
  Professori universitari ordinari in Psicologia Clinica.\n\nIdeatore con i
  colleghi del III Centro di Psicoterapia Cognitiva di Roma della Terapia M
 etacognitiva Interpersonale\, un trattamento di provata efficacia per i Di
 sturbi di Personalità\, manualizzato nel volume &nbsp\;&nbsp\;“Curare i
  Casi Complessi. La terapia metacognitiva interpersonale dei disturbi di p
 ersonalità” che ha curato insieme a Carcione A. e Nicolò G.\, edito da
  Laterza nel 2016 e in&nbsp\; Complex Cases of Personality Disorders Metac
 ognitive Interpersonal Therapy\, pubblicato da Springer nel 2021. Tale tra
 ttamento è stato anche manualizzato per il Disturbo Narcisistico di Perso
 nalità\, in “Il narcisismo e i suoi disturbi”\, scritto con Carcione 
 e pubblicato da Eclipsi/Erickson nel 2017.\nELSA RONNINGSTAM\nProfessore A
 ssociato di Psicologia presso il Dipartimento di Psichiatria dell’Univer
 sità di Harvard-Mclean Hospital\, Belmont\, Massachusetts. E’ psicologa
  e psicoanalista\, docente della Società Psicoanalitica di Boston.\n\nNeg
 li ultimi 30 anni\, la Prof. Ronningstam si è occupata di narcisismo pato
 logico e disturbo narcisistico di personalità. E’ tra le poche autrici 
 al mondo ad essersi occupata così estensivamente di questa tematica.\nE
 ’ autrice di numerose pubblicazioni sul tema e tiene seminari e corsi a 
 livello internazionale. Tra le sue principali pubblicazioni ci sono il man
 uale “Identifying and Understanding the Narcissistic Personality”\, di
  cui è autrice e il manuale “Disorders of Narcissism – Diagnostic Cli
 nical and Empirical Implications”\, di cui è curatrice\, che è stato t
 radotto in italiano e pubblicato da Raffaello Cortina Editore nel 2001\, c
 on il titolo “I disturbi del narcisismo”. È co-autrice dell’intervi
 sta diagnostica per il narcisismo (DIN).\nLa grande esperienza clinica uni
 ta alla notevole produzione scientifica rende la Prof. Ronningstam una del
 le massime esperte mondiali su questo argomento.\nAARON PINCUS\nProfessore
  di psicologia clinica alla Pennsylvania State University\, è considerato
  uno dei massimi esperti mondiali della personalità e dei suoi disturbi. 
 Nel corso degli anni ha ricevuto prestigiosi riconoscimenti\, tra questi i
 l Theodore Million Award\, per il suo lavoro svolto con particolare riferi
 mento agli studi sul narcisismo patologico e sul funzionamento interperson
 ale nei disturbi di personalità.\n\nHa sviluppato un modello clinico cont
 emporaneo di narcisismo patologico che integra la letteratura clinica e va
 ri strumenti di valutazione della personalità\, tra cui il Pathological N
 arcissism Inventory (PNI\; Pincus et al.\, 2009\; Pincus\, 2013) per valut
 are le sfaccettature clinicamente rilevanti della grandiosità e della vul
 nerabilità narcisistica\, tradotto in varie lingue (tra cui l’italiano)
  e utilizzato in vari centri di ricerca nel mondo.\n&nbsp\;\nCHIARA DE PAN
 FILIS\n\nProfessore Associato in Psichiatria\, Dipartimento di Medicina e 
 Chirurgia\, Università di Parma.\n\nVisiting fellow presso il Personality
  Disorders Institute/Presbyterian Hospital (Westcheter Division)\,&nbsp\;N
 ew York\,&nbsp\;USA ed è Vice Presdiente e responsabile della commissione
  di ricerca del PDlab\, un’associazione che fa parte di un&nbsp\;network
  di istituzioni clinico-scientifiche\, che condividono l'applicazione dell
 a &nbsp\;Transference Focused Psychotherapy\, ideata e implementato dal&nb
 sp\;Personality Disorders Institute&nbsp\;del Weill Medical College e dal&
 nbsp\;Personality Studies Institute\, di New York\, diretti da&nbsp\;Otto 
 F. Kernberg.\n\nLe sue principali aree cliniche di intervento sono il trat
 tamento psicoterapico e farmacologico dei Disturbi di Personalità e dei D
 isturbi della Nutrizione e dell'Alimentazione.\nANTONINO CARCIONE\n\nFonda
 tore e Direttore Scientifico del III Centro di Psicoterapia Cognitiva di R
 oma\, Professore Associato Università degli Studi “G.Marconi” Roma\, 
 Past President della Società Italiana di Terapia Comportamentale e Cognit
 iva (SITCC)\, Didatta delle Scuole di Specializzazione in Psicoterapia Cog
 nitiva Scuola Italiana di Cognitivismo Clinico (SICC) e Scuola di Psicoter
 apia Cognitiva (SPC)\, Didatta SITCC\, Editor-in-Chief della rivista Cogni
 tivismo Clinico\, già Vice Presidente della Società per la Ricerca in Ps
 icoterapia (SPR)\n\nAbilitazione Scientifica Nazionale per l’accesso all
 a fascia di Professori universitari ordinari in Psicologia Clinica e Dinam
 ica e di Professori Associati in Psichiatria.\n\nProfessore a contratto di
  Psicoterapia Cognitiva e Comportamentale Università de L’Aquila\n\nIde
 atore con i colleghi del III Centro di Psicoterapia Cognitiva di Roma dell
 a Terapia Metacognitiva Interpersonale\, un trattamento di provata efficac
 ia per i Disturbi di Personalità\, manualizzato nel volume “Curare i Ca
 si Complessi. La terapia metacognitiva interpersonale dei disturbi di pers
 onalità” che ha curato insieme a Nicolò G. e Semerari A.\, edito da La
 terza nel 2016 e in Complex Cases of Personality Disorders Metacognitive I
 nterpersonal Therapy\, pubblicato da Springer nel 2021. Tale trattamento 
 è stato anche manualizzato per il Disturbo Narcisistico di Personalità\,
  in “Il narcisismo e i suoi disturbi”\, scritto con Semerari e pubblic
 ato da Eclipsi/Erickson nel 2017.\n\n&nbsp\;\n\nA CHI E’ RIVOLTO:\nPsico
 logi iscritti all’Ordine\, Psicologi Psicoterapeuti\, Medici Psicoterape
 uti\, Medici Psichiatri\, Medici Neuropsichiatri Infantili.\nCREDITI ECM:\
 nLa Scuola di Psicoterapia Cognitiva S.r.l. è nell’elenco dei Provider 
 standard (ID 3958)\,come Ente accreditato e abilitato dal Ministero della 
 Salute a realizzare attività formative riconosciute idonee per l’ECM.\n
 Il Summit è accreditato in modalità FAD ASINCRONA per il rilascio di 5 c
 rediti ECM.\nMODALITA' DI PARTECIPAZIONE:\nLe videoregistrazioni degli int
 erventi dei relatori rimarranno disponibili fino al 30/12/2026.\nPer otten
 ere i crediti ECM dovrai per prima cosa vedere i 5 video dei 5 relatori (d
 urata\ntotale 5 ore)\, e successivamente compilare il questionario sulla q
 ualità percepita ed il test\nfinale di apprendimento rispondendo esattame
 nte ad almeno il 75% delle domande.\nN.B. Per avere diritto ai crediti ECM
  è necessario terminare tutti i passaggi\nentro e non oltre il 30/12/2026
 .\n&nbsp\;\n\nQUOTA E MODALITÀ DI ISCRIZIONE\n\n 	€ 75\,00 +iva (totale
  € 91\,50)\n\nÈ possibile pagare la quota di iscrizione in un'unica sol
 uzione con Bonifico Bancario\, Carta di Credito o PayPal.\n\nCLICCA QUI PE
 R ISCRIVERTI AL SUMMIT\n\nN.B. Le iscrizioni vengono prese sulla nostra nu
 ova piattaforma di erogazione corsi (https://eventi.apc.it/)\, se non sei 
 ancora registrato alla nuova piattaforma dovrai registrarti con i tuoi dat
 i e poi procedere all’iscrizione e al pagamento del corso.\n\nPer info: 
 corsi@apc.it – 3473566781\n\nSegreteria Organizzativa e Provider ECM: \n
 \nSPC s.r.l. – Provider ECM Standard ID 3958 – Viale Castro Pretorio\,
  116 – Roma\n\nBROCHURE
ATTACH;FMTTYPE=image/jpeg:https://apc.it/wp-content/uploads/2024/07/2026-A
 sincrono-Summit-NARCISISMO.png
CATEGORIES:Convegni,Corsi a pagamento,Corsi ecm,Simposi
END:VEVENT
END:VCALENDAR