BEGIN:VCALENDAR
VERSION:2.0
PRODID:-//wp-events-plugin.com//7.2.3.1//EN
BEGIN:VEVENT
UID:371@apc.it
DTSTART:20241004T090000Z
DTEND:20241006T173000Z
DTSTAMP:20240405T082645Z
URL:https://apc.it/lista-eventi/approfondisci-la-tua-dbt-nuove-skills-per-
 bpd-e-ptsd/
SUMMARY:APPROFONDISCI LA TUA DBT: NUOVE SKILLS PER BPD E PTSD
DESCRIPTION:\n\nAPPROFONDISCI LA TUA DBT:\nNUOVE SKILLS PER BPD E PTSD\n Pr
 of. Martin Bohus\nBologna\, Zanhotel Europa: 4-5-6 Ottobre 2024\nMaggiori 
 info e iscrizioni\n\n\n“La DBT può essere uno dei migliori trattamenti 
 per i clienti borderline\, ma è ben lontana dall’essere buona”\n– M
 arsha Linehan\, 1999 –\n\n PRESENTAZIONE\n\nIl Prof. Martin Bohus\, per 
 molti anni stretto collaboratore di M. Linehan e presidente dell’Associa
 zione Europea DBT (EDBTA)\, ha preso sul serio questa aﬀermazione ed ha 
 continuato a sviluppare la DBT.\nDecenni di ricerca di base sui meccanismi
  del disturbo borderline di personalità\, nonché la\nprofonda esperienza
  clinica come responsabile del più grande centro europeo di trattamento d
 el BPD presso lo ZI Mannheim (Università di Heidelberg)\, sono ora riunit
 i in una revisione completa del Manuale delle Skills.\nIl nuovo manuale in
 tegra la seconda edizione del corso di formazione sulle abilità di M. Lin
 ehan e va signifcativamente oltre. Costituisce anche la base per i nuovi s
 viluppi della DBT: la DBT incentrata sul trauma.\nNaturalmente\, le regole
  ed i principi della DBT sono stati mantenuti\, ma il contenuto è stato\n
 notevolmente ampliato e soprattutto la didattica\, cioè l’insegnamento 
 delle abilità\, è stata resa molto più accessibile sia ai terapeuti che
  ai pazienti.\nIl modulo Mindfulness è stato ristrutturato e\, in partico
 lare\, il concetto di Wise Mind è stato notevolmente ampliato ed è ora a
 ccessibile all’esperienza emotiva dei pazienti borderline.\nIl modulo su
 lla tolleranza alla soﬀerenza è stato ampliato e condensato. I pazienti
  imparano\ncosì a dosare la loro tensione ed a scegliere le abilità a lo
 ro utili. In tema centrale della gestione della dissociazione\, che prima 
 mancava nella DBT\, è stato introdotto di recente.\nIl modulo sulla regol
 azione delle emozioni è stato riorganizzato e ampliato in modo signifcati
 vo. È stato aggiunto il concetto di “emozioni multiple”\, sono state 
 sviluppate le reti emotive caratterizzanti la patologia borderline ed è s
 tata inserita la paura delle emozioni positive.\nAnche il modulo sulle rel
 azioni interpersonali è stato notevolmente ampliato: qui entrano in\ngioc
 o nuove competenze sulla costruzione delle relazioni\, sul mantenimento de
 lle reti sociali e sulla validazione bidirezionale.\n\n\nQuesto seminario 
 di tre giorni è rivolto a terapeuti con una formazione completa o avanzat
 a in DBT. Si concentra sull’ampliamento al Training delle Abilità ed in
 segna anche gli ultimi sviluppi\ndella DBT focalizzata sul trauma (TF-DBT)
  con approfondimenti per la terapia individuale. In questo caso l’attenz
 ione si concentra sulla gestione delle reti emozionali tipiche dei borderl
 ine.\nQuesto workshop si basa sulle conoscenze esistenti della DBT\, ne ap
 profondisce la comprensione e migliora signifcativamente le competenze ter
 apeutiche dei professionisti.\nIn forma sintetica\, con l’ausilio di mol
 te sequenze pratiche e video\, in tre giorni amplierai in modo sostanziale
  le tue abilità DBT ed entrerai in una nuova fase di fducia\, competenza 
 e sicurezza.\n\n\nIl workshop si terrà in presenza a Bologna nelle giorna
 te del 4-5-6 Ottobre 2024 (venerdì/sabato – ore 9:00/17:30) e prevede i
 l rilascio di 21 crediti formativi per le professioni di Psicologo\, Psico
 terapeuta\, Psichiatra\, Neuropsichiatra Infantile\, Infermiere\, Educator
 e Professionale\, Tecnico della Riabilitazione Psichiatrica. È prevista l
 a traduzione consecutiva.\n\nPer partecipare al workshop è necessario pos
 sedere una formazione completa o avanzata in DBT.\n\nQUOTE DI ISCRIZIONE\n
 \n 	QUOTA RIDOTTA VALIDA SINO AL 15/05/2024 EUR 350 + IVA (€ 427 IVA INC
 LUSA)\n\n\n\n 	QUOTA REGOLARE  PARTIRE DAL 16/05/2024 EUR 450 + IVA (€ 
 549 IVA INCLUSA)      \n\nLe quote includono la partecipazione ai lav
 ori\, l’attestato di partecipazione\, i crediti ECM per le professioni e
  discipline accreditate.\n\n\nCLICCA QUI PER INFO E ISCRIZIONI\n\nSEGRETER
 IA ORGANIZZATIVA E PROVIDER ECM\n\n\n\n\n\n\n\n\nFull Day S.r.l. – provi
 der ECM 1938\nVia La Spezia 67 – 00182 Roma\nTel. 06 7028181 – Fax 06 
 7010905\nEmail:   iscrizioni@fullday.com\nWeb: www.fullday.com\n\n\n\n\nC
 OMITATO ORGANIZZATORE E SEGRETERIA SCIENTIFICA\n\n\n\n\nPaolo Bertulli\, F
 rancesco Mancini\, Elena Prunetti\, Maria Elena Ridolfi\, Roberta Rossi.\n
 \n
ATTACH;FMTTYPE=image/jpeg:https://apc.it/wp-content/uploads/2024/01/Bohus-
 save-the-date_page-0001.jpg
CATEGORIES:Corsi a pagamento,Corsi ecm
END:VEVENT
END:VCALENDAR