BEGIN:VCALENDAR
VERSION:2.0
PRODID:-//wp-events-plugin.com//7.2.3.1//EN
BEGIN:VEVENT
UID:404@apc.it
DTSTART:20250207T090000Z
DTEND:20250208T180000Z
DTSTAMP:20250113T095202Z
URL:https://apc.it/lista-eventi/act-per-adolescenti-7/
SUMMARY:ACT PER ADOLESCENTI
DESCRIPTION:Corso ECM Online\n\nACT PER ADOLESCENTI\n7-8 febbraio 2025\nore
  09.00-18.00\n Dott. Emanuele Rossi\n\nQUOTA AGEVOLATA PER ISCRIZIONI ENTR
 O IL 20 GENNAIO 2025!\nIl Corso si terrà ONLINE su piattaforma ZOOM in di
 retta\n24 crediti ECM in FAD Sincrona: è possibile partecipare solamente 
 in diretta\n\nInfo: www.apc.it - corsi@apc.it - Tel e Whatsapp 3473566781\
 n  \n\nCORSO RIVOLTO A:\n\nSpecializzandi in Psicoterapia\, Psicologi abil
 itati alla Psicoterapia\, Medici Psicoterapeuti\, Medici Psichiatri e Medi
 ci Neuropsichiatri Infantili.\nCREDITI ECM:\n\n\nÈ previsto l’accredita
 mento di 24 crediti ECM in FAD SINCRONA\n\nMODALITA' DI PARTECIPAZIONE:\nI
 l corso si svolgerà in modalità online su piattaforma ZOOM. Sarà possib
 ile partecipare al corso esclusivamente in diretta.\nQUOTE E MODALITÀ DI 
 ISCRIZIONE\n\nQUOTA AGEVOLATA PER ISCRIZIONI ENTRO IL 20 GENNAIO 2025!\n\n
  	€&nbsp\;200\,00 +iva (totale € 244\,00) Quota agevolata per iscrizio
 ni entro il 20/01/2025\;\n 	€ 250\,00 +iva (totale € 305\,00) Quota st
 andard per iscrizioni successive al 20/01/2025.\n\n&nbsp\;\n\nIN CASO DI R
 INUNCIA NON È PREVISTO IL RIMBORSO DELLA QUOTA DI PARTECIPAZIONE\n\nÈ po
 ssibile pagare la quota di iscrizione in un'unica soluzione con Bonifico B
 ancario\, Carta di Credito o PayPal.\n\nCLICCA QUI PER ISCRIVERTI AL CORSO
 \n\nN.B. Le iscrizioni vengono prese sulla nostra nuova piattaforma di ero
 gazione corsi (https://eventi.apc.it/)\, se non sei ancora registrato alla
  nuova piattaforma dovrai registrarti con i tuoi dati e poi procedere all
 ’iscrizione e al pagamento del corso.\n\nPer info: corsi@apc.it – Tel 
 e Whatsapp: 3473566781\nSegreteria Organizzativa e Provider ECM: \nSPC s.r
 .l. – Provider ECM Standard ID 3958 - Viale Castro Pretorio\, 116 - Roma
 \nBROCHURE
ATTACH;FMTTYPE=image/jpeg:https://apc.it/wp-content/uploads/2024/09/locand
 ina-act-adolescenti-2025.png
CATEGORIES:Corsi a pagamento,Corsi ACT,Corsi ecm
END:VEVENT
END:VCALENDAR