BEGIN:VCALENDAR
VERSION:2.0
PRODID:-//wp-events-plugin.com//7.2.3.1//EN
BEGIN:VEVENT
UID:352@apc.it
DTSTART:20240405T090000Z
DTEND:20240406T180000Z
DTSTAMP:20240308T093409Z
URL:https://apc.it/lista-eventi/act-per-adolescenti-6/
SUMMARY:ACT PER ADOLESCENTI
DESCRIPTION:Corso ECM Online\n\nACT PER ADOLESCENTI\n5-6 aprile 2024\nore 0
 9.00-18.00\n Dott. Emanuele Rossi\n\nQUOTA AGEVOLATA PER ISCRIZIONI ENTRO 
 IL 18 MARZO!\nIl Corso si terrà ONLINE su piattaforma ZOOM in diretta\n24
  crediti ECM in FAD Sincrona: è possibile partecipare solamente in dirett
 a\n\nInfo: www.apc.it - corsi@apc.it - Tel e Whatsapp 3473566781\n\n\n\n\n
 \n\nCORSO RIVOLTO A:\n\nSpecializzandi in Psicoterapia\, Psicologi abilita
 ti alla Psicoterapia\, Medici Psicoterapeuti\, Medici Psichiatri e Medici 
 Neuropsichiatri Infantili.\nCREDITI ECM:\n\n\nÈ previsto l’accreditamen
 to di 24 crediti ECM in FAD SINCRONA\n\nMODALITA' DI PARTECIPAZIONE:\nIl c
 orso si svolgerà in modalità online su piattaforma ZOOM. Sarà possibile
  partecipare al corso esclusivamente in diretta.\nQUOTE E MODALITÀ DI ISC
 RIZIONE\n\nQUOTA AGEVOLATA PER ISCRIZIONI ENTRO IL 18 MARZO!\n\n 	€&nbsp
 \;200\,00 +iva (totale € 244\,00) Quota agevolata per iscrizioni entro i
 l 18/03/2024\;\n 	€ 250\,00 +iva (totale € 305\,00) Quota standard per
  iscrizioni successive al 18/03/2024.\n\n&nbsp\;\n\nIN CASO DI RINUNCIA NO
 N È PREVISTO IL RIMBORSO DELLA QUOTA DI PARTECIPAZIONE\n\nÈ possibile pa
 gare la quota di iscrizione in un'unica soluzione con Bonifico Bancario\, 
 Carta di Credito o PayPal.\n\nCLICCA QUI PER ISCRIVERTI AL CORSO\n\nN.B. L
 e iscrizioni vengono prese sulla nostra nuova piattaforma di erogazione co
 rsi (https://eventi.apc.it/)\, se non sei ancora registrato alla nuova pia
 ttaforma dovrai registrarti con i tuoi dati e poi procedere all’iscrizio
 ne e al pagamento del corso.\n\nPer info: corsi@apc.it – Tel e Whatsapp:
  3473566781\nSegreteria Organizzativa e Provider ECM: \nSPC s.r.l. – Pro
 vider ECM Standard ID 3958 - Viale Castro Pretorio\, 116 - Roma\nBROCHURE
ATTACH;FMTTYPE=image/jpeg:https://apc.it/wp-content/uploads/2023/11/ACT-AD
 OLESCENTI-2024-5.png
CATEGORIES:Corsi a pagamento,Corsi ACT,Corsi ecm
END:VEVENT
END:VCALENDAR