BEGIN:VCALENDAR
VERSION:2.0
PRODID:-//wp-events-plugin.com//7.2.3.1//EN
BEGIN:VEVENT
UID:355@apc.it
DTSTART:20240302T090000Z
DTEND:20240303T180000Z
DTSTAMP:20240229T153905Z
URL:https://apc.it/lista-eventi/act-in-pratica/
SUMMARY:ACT IN PRATICA
DESCRIPTION:Corso ECM esperienziale in presenza\n\n\nACT IN PRATICA\nApplic
 are le procedure dell’Acceptance and Commitment Therapy alla clinica&nbs
 p\;\nRoma\, 2-3 marzo 2024\nore 09.00-18.00\n&nbsp\;\n Dott.ssa Barbara Ba
 rcaccia\n\n&nbsp\;\nIl Corso si terrà in presenza a Roma \npresso sede AP
 C/SPC in Viale Castro Pretorio 116 - 00185\n\nCorso altamente esperienzial
 e - max 22 partecipanti\n20\,8 crediti ECM \n\nInfo: www.apc.it - corsi@ap
 c.it - Tel e Whatsapp 3473566781\n\n\n\n\nCORSO RIVOLTO A:\n\nSpecializzan
 di in Psicoterapia\, Psicologi abilitati alla Psicoterapia\, Medici Psicot
 erapeuti\, Medici Psichiatri e Medici Neuropsichiatri Infantili.\nCREDITI 
 ECM:\n\n\nÈ previsto l’accreditamento di 20\,8 crediti ECM\n\n\nObietti
 vo formativo: 18 - Contenuti tecnico-professionali (conoscenze e competenz
 e) specifici di ciascuna professione\, di ciascuna specializzazione e di c
 iascuna attività ultraspecialistica\, ivi incluse le malattie rare e la m
 edicina di genere\n\nResponsabile Scientifico Evento: Prof. Francesco Manc
 ini\n\nMODALITA' DI PARTECIPAZIONE:\nCorso altamente esperienziale - max 2
 2 partecipanti\nIl Corso si svolgerà il 2-3 marzo 2024 dalle 09.00 alle 1
 8.00 in presenza\npresso sede APC/SPC in Viale Castro Pretorio 116 - 00185
  - Roma\nQUOTE E MODALITÀ DI ISCRIZIONE\n\n 	€&nbsp\;200\,00 +iva (tota
 le € 244\,00) Quota agevolata per iscrizioni entro il 02/02/2024\;\n 	
 € 250\,00 +iva (totale € 305\,00) Quota standard per iscrizioni succes
 sive al 02/02/2024.\n\n&nbsp\;\n\nIN CASO DI RINUNCIA NON È PREVISTO IL R
 IMBORSO DELLA QUOTA DI PARTECIPAZIONE\n\nÈ possibile pagare la quota di i
 scrizione in un'unica soluzione con Bonifico Bancario\, Carta di Credito o
  PayPal.\n\nCLICCA QUI PER ISCRIVERTI AL CORSO\n\nN.B. Le iscrizioni vengo
 no prese sulla nostra nuova piattaforma di erogazione corsi (https://event
 i.apc.it/)\, se non sei ancora registrato alla nuova piattaforma dovrai re
 gistrarti con i tuoi dati e poi procedere all’iscrizione e al pagamento 
 del corso.\n\nPer info: corsi@apc.it – Tel e WhatsApp: 3473566781\nSegre
 teria Organizzativa e Provider ECM: \nSPC s.r.l. – Provider ECM Standard
  ID 3958 - Viale Castro Pretorio\, 116 - Roma\nBROCHURE
ATTACH;FMTTYPE=image/jpeg:https://apc.it/wp-content/uploads/2023/11/ACT-IN
 -PRATICA-ROMA-MARZO-_primapagina.png
CATEGORIES:Corsi a pagamento,Corsi ACT,Corsi ecm
END:VEVENT
END:VCALENDAR