BEGIN:VCALENDAR
VERSION:2.0
PRODID:-//wp-events-plugin.com//7.2.3.1//EN
BEGIN:VEVENT
UID:406@apc.it
DTSTART:20250927T090000Z
DTEND:20250928T180000Z
DTSTAMP:20250310T110955Z
URL:https://apc.it/lista-eventi/act-avanzata-2/
SUMMARY:ACT AVANZATA
DESCRIPTION:Corso ECM esperienziale in presenza\n\n\nACT AVANZATA\nCorso di
  II livello per chi ha già frequentato un corso base di ACT\n\nROMA\, 27-
 28 settembre 2025\norari:\n\nsabato 27 settembre 2025 ore 10.00-19.00\;\nd
 omenica 28 settembre 2025 ore 09.00-18.00.\n&nbsp\;\n Dott. Emanuele Rossi
 \n\n&nbsp\;\nIl Corso si terrà in presenza a Roma\npresso sede APC/SPC in
  Viale Castro Pretorio 116 - 00185 - Roma\nCorso altamente esperienziale\n
 \nPossono partecipare a questo corso Specializzandi\, Psicoterapeuti e Med
 ici che abbiano già frequentato un corso base di ACT (ad esempio: IL MANU
 ALE DEL TERAPEUTA ACT\, LA GUIDA ESSENZIALE ALL’ACT\, ACT PER ADOLESCENT
 I\, ACT IN PRATICA).\n19\,9 crediti ECM \n\nInfo: www.apc.it - corsi@apc.i
 t - Tel e Whatsapp 3473566781\n  \n\nCORSO RIVOLTO A:\n\nSpecializzandi in
  Psicoterapia\, Psicologi abilitati alla Psicoterapia\, Medici Psicoterape
 uti\, Medici Psichiatri e Medici Neuropsichiatri Infantili che abbiano gi
 à frequentato un corso base di ACT (ad esempio: IL MANUALE DEL TERAPEUTA 
 ACT\, LA GUIDA ESSENZIALE ALL’ACT\, ACT PER ADOLESCENTI\, ACT IN PRATICA
 ).\nCREDITI ECM:\n\n\nÈ previsto l’accreditamento di 19\,9 crediti ECM\
 n\n\nMODALITA' DI PARTECIPAZIONE:\nCorso altamente esperienziale\n\nIl Cor
 so si svolgerà sabato 27 settembre 2025 dalle 10.00 alle 19.00 e domenica
  28 settembre 2025 dalle 09.00 alle 18.00 in presenza presso sede APC/SPC 
 in Viale Castro Pretorio 116 - 00185 - Roma\nQUOTE E MODALITÀ DI ISCRIZIO
 NE\n\n 	€&nbsp\;200\,00 +iva (totale € 244\,00) Quota agevolata per is
 crizioni entro il 10/08/2025\;\n 	€ 250\,00 +iva (totale € 305\,00) Qu
 ota standard per iscrizioni successive al 10/08/2025.\n\n&nbsp\;\n\nIN CAS
 O DI RINUNCIA NON È PREVISTO IL RIMBORSO DELLA QUOTA DI PARTECIPAZIONE\n\
 nÈ possibile pagare la quota di iscrizione in un'unica soluzione con Boni
 fico Bancario\, Carta di Credito o PayPal.\n\nCLICCA QUI PER ISCRIVERTI AL
  CORSO\n\nN.B. Le iscrizioni vengono prese sulla nostra nuova piattaforma 
 di erogazione corsi (https://eventi.apc.it/)\, se non sei ancora registrat
 o alla nuova piattaforma dovrai registrarti con i tuoi dati e poi proceder
 e all’iscrizione e al pagamento del corso.\n\nPer info: corsi@apc.it –
  Tel e Whatsapp: 3473566781\nSegreteria Organizzativa e Provider ECM: \nSP
 C s.r.l. – Provider ECM Standard ID 3958 - Viale Castro Pretorio\, 116 -
  Roma\nBROCHURE
ATTACH;FMTTYPE=image/jpeg:https://apc.it/wp-content/uploads/2024/09/ACT-AV
 ZNAZATA-SETT-2025-1.png
CATEGORIES:Corsi a pagamento,Corsi ACT,Corsi ecm
END:VEVENT
END:VCALENDAR