BEGIN:VCALENDAR
VERSION:2.0
PRODID:-//wp-events-plugin.com//7.2.3.1//EN
BEGIN:VEVENT
UID:399@apc.it
DTSTART:20240914T150000Z
DTEND:20240914T180000Z
DTSTAMP:20240911T074849Z
URL:https://apc.it/lista-eventi/4-giornata-anconetana-di-psicoterapia-neur
 odiversita-un-modello-bio-psico-sociale/
SUMMARY:4° Giornata Anconetana di Psicoterapia - "Neurodivergenza: un mode
 llo bio-psico-sociale"
DESCRIPTION:4° Giornata Anconetana di Psicoterapia\nNeurodivergenza: un mo
 dello bio-psico-sociale \n&nbsp\;\nsabato 14 settembre 2024\norario 15.00 
 - 18.00\nIl Seminario si terrà in presenza presso\nLa Loggia dei Mercanti
  - Via della Loggia n° 34\, Ancona\nLa Dr.ssa Silvia Di Giuseppe\, Vicepr
 esidente OPM\, porterà i saluti istituzionali dell’Ordine Psicologi del
 le Marche.\nCHAIR:\nDr.ssa Tecla Caiazzo\nCentro Clinico SPC Ancona - Vitt
 oria\n\nRELATORI:\nDr.ssa Cristina Panisi\nPediatra\, Ph.D in psicologia e
  neuroscienze. Fondazione Sacra Famiglia - Cesano Boscone\, Milano\nDr.ssa
  Maria Marino\nPsicologa e Psicoterapeuta\, Scuola di Psicoterapia Cogniti
 va Napoli. Studio Napoletano Psicologia Cognitiva - Napoli\nProf. Luca Rec
 chi \nFilosofo\, Università di Perugia\nDr.ssa Francesca Micaela Serrani 
 \nPsicologa e Psicoterapeuta\, Responsabile Scuola Psicoterapia Cognitivo 
 Comportamentale\, Ancona\nFrancesco Rapanotti\n\nStudente Psicologia\, Uni
 versita di Urbino\n&nbsp\;\n\nPRESENTAZIONE\nQuesta 4° giornata anconetan
 a di formazione in psicoterapia è un evento formativo teorico-pratico per
  il lavoro in psicoterapia con persone adulte autistiche e/o ADHD.\nIl nos
 tro interesse verso questo tema nasce dal numero crescente di richiesta te
 rapeutica per questo tipo di problematica e dalla necessità di una formaz
 ione aggiornata per i clinici.\n&nbsp\;\nPROGRAMMA\nSabato 14 settembre 20
 24 - ore 15.00-18.00\nSpettro Autistico in età adulta: nuove prospettive 
 per la lost generation - Dr.ssa Cristina Panisi\nFenomenologia\, traiettor
 ie psicologiche e psicopatologiche nell'autismo in eta adulta: implicazion
 i per la psicoterapia - Dr.ssa Maria Marino\nNeurodivergenza: un modello b
 io-psico-sociale. Considerazioni epistemologiche tra filosofia e neuroscie
 nze&nbsp\;- Prof. Luca Recchi \nL'adhd in età adulta: manifestazioni e co
 nseguenze psicologiche raccontate a due voci - Dr.ssa Francesca Micaela Se
 rrani &amp\; Francesco Rapanotti(Studente Psicologia\, Universita di Urbin
 o)\n\n&nbsp\;\nIl Seminario si terrà sabato 14 settembre 2024 dalle 15.00
  alle 18.00 in presenza presso La Loggia dei Mercanti - Via della Loggia n
 ° 34\, Ancona.\nSeminario rivolto a Studenti in Psicologia e Medicina\, P
 sicologi\, Medici\, Psicoterapeuti\, Psichiatri\, Specializzandi in Psicot
 erapia ed Insegnanti.\n\nA conclusione del Seminario sarà rilasciato un a
 ttestato di partecipazione.\nPARTECIPAZIONE GRATUITA PREVIA ISCRIZIONE\nPe
 r iscriverti e prenotare il tuo posto in presenza compila il modulo sottos
 tante.\n\nInfo: corsi@apc.it\n\nBROCHURE
ATTACH;FMTTYPE=image/jpeg:https://apc.it/wp-content/uploads/2024/07/DEF_4-
 giornata-ancona.png
CATEGORIES:Convegni,Corsi Gratuiti,Simposi
END:VEVENT
END:VCALENDAR