BEGIN:VCALENDAR
VERSION:2.0
PRODID:-//wp-events-plugin.com//7.2.3.1//EN
BEGIN:VEVENT
UID:374@apc.it
DTSTART:20240419T150000Z
DTEND:20240419T180000Z
DTSTAMP:20240326T120924Z
URL:https://apc.it/lista-eventi/3-giornata-anconetana-di-psicoterapia-cybe
 rbullismo-e-violenza-dietro-lo-schermo-diffusione-e-impatto-del-fenomeno-s
 u-adolescenti-e-giovani-adulti/
SUMMARY:3° Giornata Anconetana di Psicoterapia - "Cyberbullismo e violenza
  dietro lo schermo: diffusione e impatto del fenomeno su adolescenti e gio
 vani adulti"
DESCRIPTION:3° Giornata Anconetana di Psicoterapia\nCyberbullismo e violen
 za dietro lo schermo:\ndiffusione e impatto del fenomeno su adolescenti e 
 giovani adulti\n&nbsp\;\nvenerdì 19 aprile 2024\norario 15.00 - 18.00\nIl
  Seminario si terrà in presenza presso\nLa Loggia dei Mercanti - Via dell
 a Loggia n° 34\, Ancona\nCHAIR:\nProf. Francesco Mancini\nRELATORI:\nProf
 . Fabio Monticelli\nPsichiatra e Psicoterapeuta\, Docente e Didatta presso
  le Scuole di Specializzazione in Psicoterapia Cognitiva (SPC e SICC). Pre
 sidente e Socio Didatta della Società Italiana di Terapia Comportamentale
  e Cognitiva (SITCC)\, Socio Fondatore del Centro Clinico De Sanctis - Rom
 a.\nProf. Giuseppe Romano\nPsicologo e Psicoterapeuta\, Docente e Didatta 
 presso le Scuole di Specializzazione in Psicoterapia Cognitiva (SPC\, APC\
 , SICC\, IGB). Professore presso Università “G. Marconi” Roma\, Respo
 nsabile dell’Equipe per l’Età Evolutiva APC - SPC Roma\, Socio Didatt
 a della Società Italiana di Terapia Comportamentale e Cognitiva (SITCC).\
 nDott. Giovanni Siena\nPsicologo Clinico\, Mediatore Familiare\, Docente a
  Contratto Università degli Studi di Urbino\, Coordinatore Commissione Re
 golamenti e Rapporti Istituzionali Ordine Psicologi Marche. Esperto in din
 amiche Familiari e Adolescenziali dipendenze Tecnologiche\, GAP e Cyberbul
 lismo\, Fouding Member e Vice Presidente Di.Te. - Associazione Nazionale D
 ipendenze Tecnologiche\, Gap e Cyberbullismo.\nDott.ssa Ramona Fimiani\nPs
 icologa\, Psicoterapeuta a orientamento cognitivo-comportamentale\, dottor
 e di ricerca in Psicologia Dinamica e Clinica.\n&nbsp\;\n\nPRESENTAZIONE\n
 Nell’ultimo decennio le nuove tecnologie di comunicazione\, in particola
 re Internet e i Social Media\, hanno favorito la comparsa di forme più sp
 ecifiche di bullismo\, oggi identificate con il termine cyberbullismo. Smi
 th e coll. (2008) lo definiscono come “un’azione aggressiva\, intenzio
 nale\, posta in essere da un individuo o da un gruppo\, utilizzando strume
 nti elettronici di contatto\, che si ripete nel tempo a danno di una vitti
 ma che non riesce facilmente a difendersi”.\nIl convegno ha la finalità
  di fare il punto riguardo la presenza e la diffusione del fenomeno tra la
  popolazione giovanile (adolescenti e giovani adulti)\, evidenziando simil
 itudini e differenze con il bullismo e sottolineando il ruolo delle agenzi
 e educative\, soprattutto della componente genitoriale\, nell’impegno ve
 rso la riduzione delle condotte aggressive e violente\, poste in essere da
 i propri figli\, attraverso i dispositivi elettronici.\nNel corso del simp
 osio saranno trattati anche temi riguardanti il rapporto tra le forme di a
 ggressività realizzate nel cyber mondo e alcune dimensioni psicologiche i
 ndividuali\, proprie di chi effettua l’aggressione\, talvolta utili a ma
 ntenere una sorta di integrità morale.\nInfine sarà anche descritta una 
 forma di violenza attuata come vendetta e conosciuta con il nome di “rev
 enge porn”\, che fino a pochi anni fa era maggiormente adottata dagli ad
 ulti e che oggi si sta diffondendo anche tra i soggetti in età evolutiva.
 \nPROGRAMMA\nVenerdì 19 aprile 2024 - ore 15.00-18.00\nIl Dr. Giovanni Si
 ena\, Coordinatore della Commissione Regolamenti e Rapporti istituzionali 
 OPM\, porterà i saluti istituzionali dell’Ordine Psicologi delle Marche
  \n\nCyberbullismo e genitorialità: la delega educativa nell’era digita
 le - Giovanni Siena\n\nPerché le persone si impegnano in condotte aggress
 ive e violente? Un’analisi dei meccanismi di disimpegno morale - Ramona 
 Fimiani\n\nBullismo\, cyberbullismo e disimpegno morale: quale possibile r
 elazione? - Giuseppe Romano\n\n\nNuove forme di vendetta digitale: un caso
  di “revenge porn” - Fabio Monticelli\n\n&nbsp\;\nIl Seminario si terr
 à venerdì 19 aprile 2024 dalle 15.00 alle 18.00 in presenza presso La Lo
 ggia dei Mercanti - Via della Loggia n° 34\, Ancona.\nSeminario rivolto a
  Studenti in Psicologia e Medicina\, Psicologi\, Medici\, Psicoterapeuti\,
  Psichiatri\, Specializzandi in Psicoterapia\, educatori\, insegnanti e op
 eratori in ambito socio sanitario.\nA conclusione del Seminario sarà rila
 sciato un attestato di partecipazione.\nPARTECIPAZIONE GRATUITA PREVIA ISC
 RIZIONE\nPer iscriverti e prenotare il tuo posto in presenza compila il mo
 dulo sottostante.\n\nInfo: corsi@apc.it\n\nBROCHURE
ATTACH;FMTTYPE=image/jpeg:https://apc.it/wp-content/uploads/2024/02/Ancona
 -19-aprile-2024.png
CATEGORIES:Convegni,Corsi Gratuiti,Simposi
END:VEVENT
END:VCALENDAR